BEGIN:VCALENDAR
PRODID:NingEventWidget-v1
VERSION:2.0
METHOD:PUBLISH
BEGIN:VEVENT
UID:4320450:Event:23612
DTSTAMP:20260425T142540Z
SUMMARY:After Hour Arias
DESCRIPTION:Come on out and join Center City Opera Theater and our You
 ng Artists as we relax and sing at C19, formerly Cichetteria 19. Come 
 enjoy drink specials and free music!\n\nFor more information visit htt
 p://phillytodo.com/events/after-hour-arias-1
DTSTART:20120115T030000Z
DTEND:20120115T040000Z
CATEGORIES:free, music
LOCATION:C19, formerly Cichetteria 19
WEBSITE:http://c19philly.com
URL:http://c19philly.com
CONTACT:5702057663
ORGANIZER:Emily
ATTACH;FMTTYPE="image/jpeg":http://storage.ning.com/topology/rest/1.0/
 file/get/3054954934?profile=original
ATTENDEE;ROLE=REQ-PARTICIPANT;PARTSTAT=ACCEPTED;RSVP=TRUE;CN=Eric:http
 ://phillytodo.com/profile/Eric
END:VEVENT
END:VCALENDAR
