BEGIN:VCALENDAR
PRODID:NingEventWidget-v1
VERSION:2.0
METHOD:PUBLISH
BEGIN:VEVENT
UID:4320450:Event:38885
DTSTAMP:20260425T112929Z
SUMMARY:Adventure to Santa - A DreamWorks DreamPlace
DESCRIPTION:“Adventure to Santa – A DreamWorks DreamPlace” at Ch
 erry Hill Mall is a first-of-its-kind holiday experience that seamless
 ly blends storytelling with cutting-edge technology.\nThe magical jour
 ney starts with Shrek, ends with Santa and features a 2,000-square-foo
 t immersive experience to be enjoyed by family members of all ages. Th
 e attraction is free to guests and features an online reservation syst
 em that eliminates the need to wait in line before embarking on this u
 nforgettable adventure.\n\nFor more information visit http://phillytod
 o.com/events/adventure-to-santa-a-dreamworks-dreamplace
DTSTART:20141128T050000Z
DTEND:20141225T045900Z
CATEGORIES:holiday, family, fun
LOCATION:Cherry Hill Mall Grand Court
WEBSITE:http://cherryhillmall.com/about_us/news/read/10371-adventure-t
 o-santa
URL:http://cherryhillmall.com/about_us/news/read/10371-adventure-to-sa
 nta
CONTACT:(215) 627-1060
ORGANIZER;CN=CashmanAssoc:http://phillytodo.com/profile/CashmanAssoc
ATTACH;FMTTYPE="image/jpeg":http://storage.ning.com/topology/rest/1.0/
 file/get/3054980411?profile=original
ATTENDEE;ROLE=REQ-PARTICIPANT;PARTSTAT=ACCEPTED;RSVP=TRUE;CN=CashmanAs
 soc:http://phillytodo.com/profile/CashmanAssoc
END:VEVENT
END:VCALENDAR
