BEGIN:VCALENDAR
PRODID:NingEventWidget-v1
VERSION:2.0
METHOD:PUBLISH
BEGIN:VEVENT
UID:4320450:Event:47202
DTSTAMP:20260425T160751Z
SUMMARY:Ab Fab GayBINGO!
DESCRIPTION:GayBINGO is the fabulous, irreverent, campy, wildly popula
 r monthly event that has been entertaining Philadelphia audiences for 
 20 years!\n \nCelebrating a different theme each month, hundreds of p
 eople pack the hall in Center City's Gershman Y for a night of good ol
 d-fashioned Bingo! with a decidedly different twist! GayBINGO is hoste
 d by the infamous Bingo Verifying Divas (BVDs!) - a wild bunch of drag
  queens who entertain the crowd with their wacky humor and always outr
 ageous costumes.\n \nGayBINGO promises to be an evening of unbridled 
 fun, complete with ridiculous musical numbers, hilarious drag queen an
 tics, chances to win fabulous prizes, and much, much more! Reserved se
 ating tickets on the Bingo floor are $30. General admission tickets in
  the balcony are $25. Tickets for GayBINGO are on sale at http://www.
 aidsfundphilly.org/gaybingo.\n \nGayBINGO was named Best of Philly (G
 ay Event), won PGN's Lambda Award for Best Fundraiser, and was the sub
 ject of a popular WHYY documentary.  GayBINGO has also been featured 
 in the LA Times, Washington Post, and USA Today.  GayBINGO events hav
 e raised over $3.5 million to date.\n \nTweet this: Come out for 21st
  Season of @GayBINGOPhilly Have fun & raise $ for HIV/AIDS, tickets: h
 ttp://bit.ly/1NNcQMt\n\nFor more information visit http://phillytodo.c
 om/events/ab-fab-gaybingo
DTSTART:20160910T230000Z
DTEND:20160911T020000Z
CATEGORIES:lgbt, nonprofit, fundraiser, bingo, gaybingo, aids, fund, d
 rag, queen
LOCATION:The Gershman Y
WEBSITE:http://www.gershmany.org/
URL:http://www.gershmany.org/
CONTACT:(215) 545-4400
ORGANIZER:Philadelphia AIDS Fund
ATTACH;FMTTYPE="image/jpeg":http://storage.ning.com/topology/rest/1.0/
 file/get/3054997198?profile=original
ATTENDEE;ROLE=REQ-PARTICIPANT;PARTSTAT=ACCEPTED;RSVP=TRUE;CN="Cari Fei
 ler Bender":http://phillytodo.com/profile/CariFeilerBender
END:VEVENT
END:VCALENDAR
