BEGIN:VCALENDAR
PRODID:NingEventWidget-v1
VERSION:2.0
METHOD:PUBLISH
BEGIN:VEVENT
UID:4320450:Event:8501
DTSTAMP:20260425T132527Z
SUMMARY:A Toast For Mom!
DESCRIPTION:Mother’s Day celebrations come in all flavors, but one o
 f the most popular traditions is to honor Mom by taking her out and re
 lieving her from cooking duties for at least one day! Join Davio's, Ph
 iladelphia's favorite Northern Italian Steakhouse, for Mother’s Day 
 on Sunday, May 8th, 2011 from 1:00pm to 8:00pm. Davio’s will be serv
 ing a four-course prix-fixe dinner menu for $65.00 per person (tax and
  gratuity not included). The menu will feature items such as the Maine
  lobster bisque with herb crème fraîche and the grilled rack of lamb
 , with sautéed jumbo sea scallops and purple potato salad. Mothers di
 ning at Davio’s Philadelphia will also enjoy a complimentary glass o
 f Prosecco! Come in to Davio’s for a one of a kind evening and a toa
 st to the special woman in your life!\n \n Mother’s Day Menu\n \n
 ~*~*~\n \nMaine Lobster Bisque, Herb Crème Fraîche\n \nor\n \nJum
 bo Lump Crab, Shrimp, Scallop Salad, Baby Greens\n \n~*~\nGrilled Fil
 et Mignon, Jumbo Shrimp,\nPotato Risotto,Green Beans, Barolo Sauce, Sh
 ellfish Butter\n \nor\n \nGrilled Rack ofLamb, Sautéed Jumbo Sea Sc
 allops,\nPurple Potato Salad, Spring Peas, Thyme Jus, Herb Butter\n \
 n~*~\nDessert Cart\n \n~*~*~\n$65 Per Person (Tax and gratuity not in
 cluded)\n\nFor more information visit http://phillytodo.com/events/a-t
 oast-for-mom
DTSTART:20110508T170000Z
DTEND:20110509T000000Z
CATEGORIES:"mother's", day
LOCATION:Davio's Philadelphia
WEBSITE:
URL:
CONTACT:
ORGANIZER;CN="Juliette V":http://phillytodo.com/profile/JulietteV
ATTACH;FMTTYPE="image/jpeg":
ATTENDEE;ROLE=REQ-PARTICIPANT;PARTSTAT=ACCEPTED;RSVP=TRUE;CN="Juliette
  V":http://phillytodo.com/profile/JulietteV
END:VEVENT
END:VCALENDAR
