BEGIN:VCALENDAR
PRODID:NingEventWidget-v1
VERSION:2.0
METHOD:PUBLISH
BEGIN:VEVENT
UID:4320450:Event:55128
DTSTAMP:20260425T144957Z
SUMMARY:A Taste of Kensington: A Benefit for the Greensgrow Community 
 Kitchen
DESCRIPTION:Eat, drink, and celebrate! Join Greensgrow Farms, Philly
 s nationally recognized urban farm and garden center, at “A Taste o
 f Kensington,” a unique event on Wednesday, June 13 from 6-10 PM in 
 support of the Greensgrow Community Kitchen, an incubator space for lo
 cal food entrepreneurs that since 2011 has helped over 75 local food v
 isionaries turn their dreams into reality.\n             
               \nFor one exceptional evening, the urban o
 asis of Greensgrow Farms will be transformed for more than 300 guests,
  featuring live entertainment, a silent auction, local libations and c
 ulinary dishes reflective of Kensington’s expansive and award-winnin
 g food scene. Favorite local chefs will provide samples of signature d
 ishes, including farm-to-table hors d’oeuvres from the Greensgrow Co
 mmunity Kitchen. Philadelphia Brewing Co. will be pouring its outstand
 ing brews alongside Rowhouse Spirits’ signature cocktail.\n \nGener
 al Admission tickets (7-10 PM) are $55. VIP tickets are $85 and includ
 e a one-hour exclusive reception starting at 6 PM during which guests 
 will sample ciders from Kensington’s blossoming cider scene, have an
  exclusive opportunity to meet restaurant professionals from Greensgro
 w’s acclaimed local culinary partners, learn from Martha’s Head Ba
 rtender Mike Landers how to mix a refreshing Greensgrow-themed cocktai
 l using farm-fresh seasonal ingredients and Rowhouse Spirits, and enjo
 y a cooking demonstration by Fette Sau’s Executive Chef Reinaldo Alf
 onso.\n \nTo purchase tickets, visit www.greensgrow.org/event/a-taste
 -of-kensington/. For more information and sponsorship opportunities, v
 isit http://www.greensgrow.org/about-us/tasteofkensington/sponsor-tast
 e-kensington/\n\nFor more information visit http://phillytodo.com/even
 ts/a-taste-of-kensington-a-benefit-for-the-greensgrow-community
DTSTART:20180613T220000Z
DTEND:20180614T020000Z
CATEGORIES:food, festival
LOCATION:Greensgrow Farms
WEBSITE:http://www.greensgrow.org/event/a-taste-of-kensington/
URL:http://www.greensgrow.org/event/a-taste-of-kensington/
CONTACT:215-427-2780
ORGANIZER;CN="Greensgrow Farms":http://phillytodo.com/profile/Greensgr
 owFarms
ATTACH;FMTTYPE="image/jpeg":
ATTENDEE;ROLE=REQ-PARTICIPANT;PARTSTAT=ACCEPTED;RSVP=TRUE;CN="Greensgr
 ow Farms":http://phillytodo.com/profile/GreensgrowFarms
END:VEVENT
END:VCALENDAR
