BEGIN:VCALENDAR
PRODID:NingEventWidget-v1
VERSION:2.0
METHOD:PUBLISH
BEGIN:VEVENT
UID:4320450:Event:34830
DTSTAMP:20260425T193512Z
SUMMARY:A Special Evening of Hair, Handbags & More!
DESCRIPTION:Louis Christian Wayne Robert Salon and Macy*s by Appointme
 nt present to you a dazzling evening of hair, handbags, and more! Join
  us as Macy*s brings top designer brands, such as Michael Kors and Eil
 een Fisher, right to the salon! Don’t miss out on your chance to rec
 eive 15% off Macy*s purchases and a $25 gift card to the salon! Visit 
 us on Wednesday, October 9 from 4-9pm. for this fun evening of beauty 
 and fashion! For more information and to R.S.V.P., please call (856) 6
 61-4355.\n\nFor more information visit http://phillytodo.com/events/a-
 special-evening-of-hair-handbags-more
DTSTART:20131009T200000Z
DTEND:20131010T010000Z
CATEGORIES:style, and, shopping
LOCATION:Louis Christian Wayne Robert Salon and Spa
WEBSITE:http://www.lcwrsalonandspa.com/home.html
URL:http://www.lcwrsalonandspa.com/home.html
CONTACT:(856) 661-4355
ORGANIZER;CN="Jenna Communications":http://phillytodo.com/profile/Jenn
 aCommunications
ATTACH;FMTTYPE="image/jpeg":
ATTENDEE;ROLE=REQ-PARTICIPANT;PARTSTAT=ACCEPTED;RSVP=TRUE;CN="Jenna Co
 mmunications":http://phillytodo.com/profile/JennaCommunications
END:VEVENT
END:VCALENDAR
