BEGIN:VCALENDAR
PRODID:NingEventWidget-v1
VERSION:2.0
METHOD:PUBLISH
BEGIN:VEVENT
UID:4320450:Event:4081
DTSTAMP:20260425T125033Z
SUMMARY:A Sexy Singles Valentines Event - Straight to The Heart!
DESCRIPTION:\n\nStraight to The Heart    \nThe party for singles t
 o let Loose, meet friends & find love.  Open Bar, Music & Dancing, Pri
 zes & More\n8 - 9 pm Open Bar \n9 - 11 pm 3 Olives Vodka Specials\n 
 All Night: DJ & Dancing; Prizes  Price: $15.00 if purchased by Wednesd
 ay, February 9, or $25 at the Door (Limited Availability).\n\nBuy Tick
 ets www.NightNDayEvents.com!\n\nFor more information visit http://phil
 lytodo.com/events/a-sexy-singles-valentines
DTSTART:20110211T010000Z
DTEND:20110211T040000Z
CATEGORIES:singles, valentine, party, social, event, drinking, dancing
 , date
LOCATION:Grey's Social Lounge
WEBSITE:http://www.NightNDayEvents.com
URL:http://www.NightNDayEvents.com
CONTACT:
ORGANIZER;CN="Natalie Hoyer":http://phillytodo.com/profile/NatalieHoye
 r
ATTACH;FMTTYPE="image/jpeg":http://storage.ning.com/topology/rest/1.0/
 file/get/3054954572?profile=original
ATTENDEE;ROLE=REQ-PARTICIPANT;PARTSTAT=ACCEPTED;RSVP=TRUE;CN="Natalie 
 Hoyer":http://phillytodo.com/profile/NatalieHoyer
END:VEVENT
END:VCALENDAR
