BEGIN:VCALENDAR
PRODID:NingEventWidget-v1
VERSION:2.0
METHOD:PUBLISH
BEGIN:VEVENT
UID:4320450:Event:955
DTSTAMP:20260425T125803Z
SUMMARY:A  Sense of Wonder:  Evening with Rachel Carson
DESCRIPTION:Screening of film \"A Sense of Wonder\" and discussion aft
 erwards with actress and filmmaker, Kaiulani Lee who portrays Rachel C
 arson in the film.\n\nFor more information visit http://phillytodo.com
 /events/a-sense-of-wonder-evening
DTSTART:20100325T230000Z
DTEND:20100326T010000Z
CATEGORIES:educational
LOCATION:Gateway Auditorium,  Bucks County Community College
WEBSITE:http://www.bucks.edu
URL:http://www.bucks.edu
CONTACT:215-968-8015
ORGANIZER;CN="Natalie Kaye":http://phillytodo.com/profile/NatalieKaye
ATTACH;FMTTYPE="image/jpeg":
ATTENDEE;ROLE=REQ-PARTICIPANT;PARTSTAT=ACCEPTED;RSVP=TRUE;CN="Natalie 
 Kaye":http://phillytodo.com/profile/NatalieKaye
END:VEVENT
END:VCALENDAR
