BEGIN:VCALENDAR
PRODID:NingEventWidget-v1
VERSION:2.0
METHOD:PUBLISH
BEGIN:VEVENT
UID:4320450:Event:45061
DTSTAMP:20260425T125758Z
SUMMARY:A Philly Tribute to David Bowie
DESCRIPTION:Revel in the life and music David Bowie for an unforgettab
 le night at the Hard Rock Cafe Philadelphia. Throughout the night, enj
 oy live tributes of Bowie’s most iconic tracks and memorabilia inclu
 ding a signed gold record. Special guests including two of the origina
 l Bowie kids and the producer of the forthcoming Sigma documentary wil
 l also join the celebration and share their memories and experiences. 
 The night will benefit the Leukemia & Lymphoma Society.\n\nFor more in
 formation visit http://phillytodo.com/events/a-philly-tribute-to-david
 -bowie
DTSTART:20160305T013000Z
DTEND:20160305T043000Z
CATEGORIES:david, bowie, tribute
LOCATION:Hard Rock Cafe Philadelphia | 1113-31 Market St, Philadelphia
 , PA 19107
WEBSITE:
URL:
CONTACT:215-627-1060
ORGANIZER:Hard Rock Cafe Philadelphia
ATTACH;FMTTYPE="image/jpeg":http://storage.ning.com/topology/rest/1.0/
 file/get/3054994341?profile=original
ATTENDEE;ROLE=REQ-PARTICIPANT;PARTSTAT=ACCEPTED;RSVP=TRUE;CN=CashmanAs
 soc:http://phillytodo.com/profile/CashmanAssoc
END:VEVENT
END:VCALENDAR
