BEGIN:VCALENDAR
PRODID:NingEventWidget-v1
VERSION:2.0
METHOD:PUBLISH
BEGIN:VEVENT
UID:4320450:Event:41419
DTSTAMP:20260425T130748Z
SUMMARY:“A Night on Broadway” Mini Ball and Health Screening Event
DESCRIPTION:The COLOURS Organization, Inc in collaboration with AAMP i
 nvite you to this night of color, creativity, costuming – and care! 
 – as we present the “A Night on Broadway” Mini Ball! Inspired by
  the individuals, houses and balls that Gerard Gaskin captures through
  the lens of his camera in Legendary: Inside the House Ballroom Scene
 , this event invites both insiders and curious newcomers to participat
 e (as a witness or competitor) in a night that is part fashion show, p
 art dance battle, and entirely fun filled. \n \nBetween 6 and 8pm, 
 explore Gaskin’s photographs of ballroom culture in Philadelphia, Ne
 w York and beyond in our current exhibit, and take the opportunity to
 know your status and get tested for syphilis and HIV/AIDS. At 8pm, 
 we take it up a notch as the competition begins, with categories for T
 eam Runway, Female Figure Face, Male Figure Realness, Hand Performance
 , and Performance all inspired by Broadway hits and classics!\n \nSea
 ting will be limited – arrive early to claim your spot. \n \n$10 G
 eneral Admission. $5 Admission for those who get tested at the event.\
 nAll proceeds benefit The COLOURS Organization, INC and The African Am
 erican Museum in Philadelphia.\n \nInterested in competing? Contact W
 ill McNeil at 215-851-1975.\n \n\nFor more information visit http://p
 hillytodo.com/events/a-night-on-broadway-mini-ball-and-health-screenin
 g-event
DTSTART:20150814T220000Z
DTEND:20150815T030000Z
CATEGORIES:mini, ball, fundraiser, and, health, screening, event
LOCATION:African American Museum
WEBSITE:http://www.aampmuseum.org/
URL:http://www.aampmuseum.org/
CONTACT:302-270-2718
ORGANIZER:Jennifer Cooper at Skai Blue Media
ATTACH;FMTTYPE="image/jpeg":
ATTENDEE;ROLE=REQ-PARTICIPANT;PARTSTAT=ACCEPTED;RSVP=TRUE;CN="Skai Blu
 e Media":http://phillytodo.com/profile/SkaiBlueMedia
END:VEVENT
END:VCALENDAR
