BEGIN:VCALENDAR
PRODID:NingEventWidget-v1
VERSION:2.0
METHOD:PUBLISH
BEGIN:VEVENT
UID:4320450:Event:35860
DTSTAMP:20260425T144148Z
SUMMARY:A Night of Broadway Stars: Celebrating 15 Years of Service to 
 Homeless Youth
DESCRIPTION:Join us in celebrating Covenant House Pennsylvania’s 15
 th anniversary with an evening hosted by renowned lyricist and compos
 er Neil Berg that is a show like no other. A Night of Broadway Stars h
 as featured talented artists such as Capathia Jenkins (Dream Girls), S
 tephanie Block (The Boy from Oz), Danny Zolli (Jesus Christ Superstar)
 , Craig Schulman (Les Misérables), Carter Calvert (Cats), John Treac
 y Egan (Nice Work If You Can Get It) and many more, all coming togeth
 er to support homeless youth. Don’t miss out on what will be an unfo
 rgettable evening of magical moments! This event raises critical funds
  to help support Covenant House’s important work serving young peopl
 e in crisis throughout our community.\n\nFor more information visit ht
 tp://phillytodo.com/events/a-night-of-broadway-stars-celebrating-15-ye
 ars-of-service-to
DTSTART:20140507T213000Z
DTEND:20140508T030000Z
CATEGORIES:celebration, anniversary, charity, fundraiser
LOCATION:Pennsylvania Convention Center
WEBSITE:http://stars.covenanthousepa.org/
URL:http://stars.covenanthousepa.org/
CONTACT:
ORGANIZER;CN="Skai Blue Media":http://phillytodo.com/profile/SkaiBlueM
 edia
ATTACH;FMTTYPE="image/jpeg":http://storage.ning.com/topology/rest/1.0/
 file/get/3054973196?profile=original
ATTENDEE;ROLE=REQ-PARTICIPANT;PARTSTAT=ACCEPTED;RSVP=TRUE;CN="Skai Blu
 e Media":http://phillytodo.com/profile/SkaiBlueMedia
END:VEVENT
END:VCALENDAR
