BEGIN:VCALENDAR
PRODID:NingEventWidget-v1
VERSION:2.0
METHOD:PUBLISH
BEGIN:VEVENT
UID:4320450:Event:49505
DTSTAMP:20260425T123852Z
SUMMARY:A Night in Old Shanghai - A Lunar New Year Celebration
DESCRIPTION:Celebrate the Lunar New Year by stepping into the 1920s wi
 th Dim Sum House by Jane G (3939 Chestnut Street) and the SOSI on Satu
 rday, February 18, 2017. Join us as we celebrate the Lunar New Year, w
 here the new world meets the old. Come dressed in your best 1920s/1930
 s attire. Have your fortune told, enjoy the beautiful jazz and old cla
 ssic music, and food and drinks to complete one of the most fabulous d
 ecades. Tickets are $108 each and include live musical entertainment, 
 a top-shelf open bar, heavy hors d'oeuvres and much more. For more inf
 ormation, visit, www.bit.ly/janeglunar\n\nFor more information visit h
 ttp://phillytodo.com/events/a-night-in-old-shanghai-a-lunar-new-year-c
 elebration
DTSTART:20170219T020000Z
DTEND:20170219T050000Z
CATEGORIES:lunar, new, year, party
LOCATION:Dim Sum House by Jane G’s
WEBSITE:https://www.facebook.com/events/1847434445533325/
URL:https://www.facebook.com/events/1847434445533325/
CONTACT:(215) 921-5377
ORGANIZER:Dim Sum House by Jane G's
ATTACH;FMTTYPE="image/jpeg":http://storage.ning.com/topology/rest/1.0/
 file/get/3055002931?profile=original
ATTENDEE;ROLE=REQ-PARTICIPANT;PARTSTAT=ACCEPTED;RSVP=TRUE;CN="Aversa P
 R & Events":http://phillytodo.com/profile/KoryAversa277
END:VEVENT
END:VCALENDAR
