BEGIN:VCALENDAR
PRODID:NingEventWidget-v1
VERSION:2.0
METHOD:PUBLISH
BEGIN:VEVENT
UID:4320450:Event:49502
DTSTAMP:20260425T124907Z
SUMMARY:A Midsummer Night's Dream
DESCRIPTION:A Midsummer Night’s Dream\nBy William Shakespeare Direct
 ed by Matt Pfeiffer  On the F. Otto Haas Stage March 2 – April 9, 20
 17\n \nWe opened the Haas Stage in 1998 with this beloved comedy by W
 illiam Shakespeare. Next year, Barrymore Award-winning director Matt P
 feiffer creates a vibrant new production featuring Philadelphia’s mo
 st exciting up-and-coming actors, musicians, and designers. Join us fo
 r musical celebration of the follies and foibles of human beings (and 
 fairies) in a fresh new staging that promises to be an unforgettable m
 idsummer adventure.\n \nCast\n Rachel Camp (Helena/Lion)\n Taysha C
 anales (Hermia/Wall)\n Eliana Fabiyi (Fairy/Musician)\n Doug Hara (E
 geus/Quince)\n Dan Hodge (Bottom)\n Brandon Pierce (Demetrieus/Moon)
 \n Katharine Powell (Titania/Hippolyta)\n Mary Tuomanen (Puck)\n\n\n
 For more information visit http://phillytodo.com/events/a-midsummer-ni
 ght-s-dream
DTSTART:20170303T010000Z
DTEND:20170410T020000Z
CATEGORIES:live, performance
LOCATION:Arden Theatre Company
WEBSITE:http://ardentheatre.org
URL:http://ardentheatre.org
CONTACT:215.922.1122
ORGANIZER:
ATTACH;FMTTYPE="image/jpeg":http://storage.ning.com/topology/rest/1.0/
 file/get/3055002581?profile=original
ATTENDEE;ROLE=REQ-PARTICIPANT;PARTSTAT=ACCEPTED;RSVP=TRUE;CN="Arden Th
 eatre Company":http://phillytodo.com/profile/ArdenTheatreCompany
END:VEVENT
END:VCALENDAR
