BEGIN:VCALENDAR
PRODID:NingEventWidget-v1
VERSION:2.0
METHOD:PUBLISH
BEGIN:VEVENT
UID:4320450:Event:41007
DTSTAMP:20260425T173741Z
SUMMARY:A Midsummer Nature’s Dream: Art & the Summer Solstice
DESCRIPTION:How does art that idealizes nature change the way we see t
 he world?  University of the Arts master lecturer Cristine Larson r
 eturns to talk about nature in art.  She’ll start with a survey of 
 17th – 19th century romantic art then consider a 21stcentury aesth
 etic of nature. Last, we’ll go outside and make art of our own.\nSp
 ecial members-only price: $10\nRegister online now.\n\nFor more inform
 ation visit http://phillytodo.com/events/a-midsummer-nature-s-dream-ar
 t-the-summer-solstice
DTSTART:20150711T150000Z
DTEND:20150711T180000Z
CATEGORIES:art, lecture, and, workshop
LOCATION:Schuylkill Center for Environmental Education
WEBSITE:http://www.schuylkillcenter.org/blog/event/a-midsummer-natures
 -dream-art-the-summer-solstice/
URL:http://www.schuylkillcenter.org/blog/event/a-midsummer-natures-dre
 am-art-the-summer-solstice/
CONTACT:215-482-7300, x110
ORGANIZER;CN="The Schuylkill Center":http://phillytodo.com/profile/Ann
 aLehrMueser
ATTACH;FMTTYPE="image/jpeg":http://storage.ning.com/topology/rest/1.0/
 file/get/3054988158?profile=original
ATTENDEE;ROLE=REQ-PARTICIPANT;PARTSTAT=ACCEPTED;RSVP=TRUE;CN="The Schu
 ylkill Center":http://phillytodo.com/profile/AnnaLehrMueser
END:VEVENT
END:VCALENDAR
