BEGIN:VCALENDAR
PRODID:NingEventWidget-v1
VERSION:2.0
METHOD:PUBLISH
BEGIN:VEVENT
UID:4320450:Event:38223
DTSTAMP:20260425T130855Z
SUMMARY:A Green Town Meeting: Corbett, Wolf, and the Environment
DESCRIPTION:This fall, Pennsylvania voters will choose between Toms, t
 he incumbent Corbett and the challenging Wolf. Will the environment pl
 ay a role in the election? Is fracking an issue? Clean water? Trail ne
 tworks? Green energy? Over Yards’ beer, our panel roams the election
 ’s environmental landscape, trying to answer these—and your!—que
 stions. Panelists (at press time) include Michael Krancer, Governor Co
 rbett’s first DEP chief, environmental attorney Robert Fox, and the 
 Bicycle Coalition of Greater Philadelphia’s Sarah Clark Stuart. Chec
 k our website for the final listing of panelists, and enjoy an evening
  of beer and politics.\nFree!  Let us know if you plan on coming!\nC
 o-sponsored by Yards Brewing Company\n\nFor more information visit htt
 p://phillytodo.com/events/a-green-town-meeting-corbett-wolf-and-the-en
 vironment
DTSTART:20141009T233000Z
DTEND:20141010T013000Z
CATEGORIES:drinks, and, conversation
LOCATION:Schuylkill Center for Environmental Education
WEBSITE:http://www.schuylkillcenter.org/
URL:http://www.schuylkillcenter.org/
CONTACT:215-482-7300
ORGANIZER;CN="The Schuylkill Center":http://phillytodo.com/profile/Ann
 aLehrMueser
ATTACH;FMTTYPE="image/jpeg":http://storage.ning.com/topology/rest/1.0/
 file/get/3054980176?profile=original
ATTENDEE;ROLE=REQ-PARTICIPANT;PARTSTAT=ACCEPTED;RSVP=TRUE;CN="The Schu
 ylkill Center":http://phillytodo.com/profile/AnnaLehrMueser
END:VEVENT
END:VCALENDAR
