BEGIN:VCALENDAR
PRODID:NingEventWidget-v1
VERSION:2.0
METHOD:PUBLISH
BEGIN:VEVENT
UID:4320450:Event:660
DTSTAMP:20260425T125009Z
SUMMARY:A GREAT LIVE SHOW-THINK PINK FLOYD
DESCRIPTION:If Pink Floyd is your thing, you must seek out THINK PINK 
 FLOYD~~http://www.thinkpinkfloyd.com or http://www.facebook.com/THINKP
 INKFLOYD1\nTHINK PINK FLOYD THE ULTIMATE PINK FLOYD TRIBUTE.\n\n((( NE
 XT SHOW)))-~~~~~~~most SHOWS START ON OR AROUND 9 PM\n2010\nFEB 5TH (S
 WEENEY'S SALOON)\n13639 PHILMOUNT AVE PHILA PA 19116\n215 677 3177\n\n
 For more information visit http://phillytodo.com/events/a-great-live-s
 howthink-pink
DTSTART:20100206T010000Z
DTEND:20100206T070000Z
CATEGORIES:live, music, night, club, blast, with, the, ultimate, tribu
 te, halloween, blowout, bash
LOCATION:(SWEENEY'S SALOON)
WEBSITE:
URL:
CONTACT:215 677 3177
ORGANIZER;CN="THINKPINKFLOYD.COM":http://phillytodo.com/profile/THINKP
 INKFLOYDCOM
ATTACH;FMTTYPE="image/jpeg":http://storage.ning.com/topology/rest/1.0/
 file/get/3054942802?profile=original
ATTENDEE;ROLE=REQ-PARTICIPANT;PARTSTAT=ACCEPTED;RSVP=TRUE;CN="THINKPIN
 KFLOYD.COM":http://phillytodo.com/profile/THINKPINKFLOYDCOM
END:VEVENT
END:VCALENDAR
