BEGIN:VCALENDAR
PRODID:NingEventWidget-v1
VERSION:2.0
METHOD:PUBLISH
BEGIN:VEVENT
UID:4320450:Event:56411
DTSTAMP:20260425T163036Z
SUMMARY:A Dream Is A Wish: Princess Holiday Concert
DESCRIPTION:A Dream Is A Wish: Princess Holiday Concert returns to Phi
 ladelphia Theatre Company on Sunday, December 16, 2018 at 3:00pm and 6
 :00pm. This heartwarming experience is perfect for the whole family! E
 njoy a sing-along with a gathering or princesses and princes from popu
 lar movies, musicals and television shows. Children are encouraged to 
 come dressed as their favorite character. After the show, the cast wil
 l host a meet-and-greet reception with holiday cookies, apple cider an
 d photo opportunities. The Princess Holiday Concert will take place at
  Philadelphia Theatre Company at the Suzanne Roberts Theatre (480 S. B
 road Street). Tickets are on sale for $35 at philatheatreco.org, at th
 e box-office, or by calling 215-985-0420.  Note: The 6:00pm show will
  feature a relaxed performance that welcomes children with autism or s
 ensory or emotional sensitivities.\n\nFor more information visit http:
 //phillytodo.com/events/a-dream-is-a-wish-princess-holiday-concert
DTSTART:20181216T200000Z
DTEND:20181216T230000Z
CATEGORIES:princess, holiday, concert
LOCATION:Philadelphia Theatre Company - Suzanne Roberts Theatre
WEBSITE:https://philadelphiatheatrecompany.org/a-dream-is-a-wish-princ
 ess-holiday-concert/
URL:https://philadelphiatheatrecompany.org/a-dream-is-a-wish-princess-
 holiday-concert/
CONTACT:
ORGANIZER:
ATTACH;FMTTYPE="image/jpeg":http://storage.ning.com/topology/rest/1.0/
 file/get/3055015947?profile=original
ATTENDEE;ROLE=REQ-PARTICIPANT;PARTSTAT=ACCEPTED;RSVP=TRUE;CN="Aversa P
 R & Events":http://phillytodo.com/profile/KoryAversa277
END:VEVENT
END:VCALENDAR
