BEGIN:VCALENDAR
PRODID:NingEventWidget-v1
VERSION:2.0
METHOD:PUBLISH
BEGIN:VEVENT
UID:4320450:Event:51102
DTSTAMP:20260425T124906Z
SUMMARY:A Doll's House
DESCRIPTION:By Henrik Ibsen Directed by Terrence J. Nolen January 11
  - February 25, 2018On the Arcadia Stage Nora and Torvald are living 
 their dream life with the brightest of futures. And then a long-buried
  secret rises to the surface, and Nora must choose between outward per
 fection and inner truth.  Still shockingly relevant, this revolutiona
 ry classic will be brought to life in the intimacy of the Arcadia Stag
 e.\n\nFor more information visit http://phillytodo.com/events/a-doll-s
 -house
DTSTART:20180112T000000Z
DTEND:20180226T000000Z
CATEGORIES:theatre
LOCATION:Arden Theatre Company
WEBSITE:https://tickets.ardentheatre.org/Online/article/adollshouse
URL:https://tickets.ardentheatre.org/Online/article/adollshouse
CONTACT:
ORGANIZER;CN="Arden Theatre Company":http://phillytodo.com/profile/Ard
 enTheatreCompany
ATTACH;FMTTYPE="image/jpeg":http://storage.ning.com/topology/rest/1.0/
 file/get/3055008086?profile=original
ATTENDEE;ROLE=REQ-PARTICIPANT;PARTSTAT=ACCEPTED;RSVP=TRUE;CN="Arden Th
 eatre Company":http://phillytodo.com/profile/ArdenTheatreCompany
END:VEVENT
END:VCALENDAR
