BEGIN:VCALENDAR
PRODID:NingEventWidget-v1
VERSION:2.0
METHOD:PUBLISH
BEGIN:VEVENT
UID:4320450:Event:55948
DTSTAMP:20260425T175129Z
SUMMARY:A Doll's House, Part 2
DESCRIPTION:Following our acclaimed production of A Dollâ€™s House com
 es this scathingly funny follow-up to Ibsenâ€™s masterpiece. Fifteen y
 ears have passed since Nora famously slammed the door. And then thereâ
 €™s a knock. Nora has returned.Â By Lucas Hnath. Directed by Tracy Bri
 gden.\n\nFor more information visit http://phillytodo.com/events/a-dol
 l-s-house-part-2
DTSTART:20181025T230000Z
DTEND:20181210T030000Z
CATEGORIES:performance
LOCATION:Arden Theatre Company
WEBSITE:https://ardentheatre.org/event/a-dolls-house-part-2/2018-10-24
 /
URL:https://ardentheatre.org/event/a-dolls-house-part-2/2018-10-24/
CONTACT:215.922.1122
ORGANIZER;CN="Arden Theatre Company":http://phillytodo.com/profile/Ard
 enTheatreCompany
ATTACH;FMTTYPE="image/jpeg":http://storage.ning.com/topology/rest/1.0/
 file/get/3055015874?profile=original
ATTENDEE;ROLE=REQ-PARTICIPANT;PARTSTAT=ACCEPTED;RSVP=TRUE;CN="Arden Th
 eatre Company":http://phillytodo.com/profile/ArdenTheatreCompany
END:VEVENT
END:VCALENDAR
