BEGIN:VCALENDAR
PRODID:NingEventWidget-v1
VERSION:2.0
METHOD:PUBLISH
BEGIN:VEVENT
UID:4320450:Event:59618
DTSTAMP:20260425T123600Z
SUMMARY:A Cup of Christmas Tea
DESCRIPTION:Make visiting the Historic Strawberry Mansion, Fairmount P
 ark’s largest historic house, part of your holiday tradition. The Po
 rch Club of Riverton and the Garden Club of Philadelphia and Vicinity 
 will transform the first floor of Historic Strawberry Mansion into a s
 tunning Winter Wonderland. This year’s theme, “Make a Joyful Noise
 ,” is inspired by songs like Let it Snow, Holly Jolly Christmas, The
  Most Wonderful Time of the Year, and others. Five rooms will reflect 
 these timeless classics. Join us December 14 and 15 for tea and cookie
 s in the Banquet Room. You can also enjoy gorgeous holiday decorations
 , including vintage teacups, baskets, and honey on sale throughout the
  month. Tours are available throughout the season, giving visitors an 
 opportunity to view the mansion’s beautiful décor as well as an imp
 ressive collection of dolls and vintage toys dating back to the 18th c
 entury.\n\nFor more information visit http://phillytodo.com/events/a-c
 up-of-christmas-tea-1
DTSTART:20191214T170000Z
DTEND:20191215T200000Z
CATEGORIES:tours
LOCATION:Historic Strawberry Mansion
WEBSITE:http://www.historicstrawberrymansion.org/
URL:http://www.historicstrawberrymansion.org/
CONTACT:215-228-8364
ORGANIZER;CN="Bryan Chan":http://phillytodo.com/profile/BryanChan
ATTACH;FMTTYPE="image/jpeg":https://storage.ning.com/topology/rest/1.0
 /file/get/3711241262?profile=original
ATTENDEE;ROLE=REQ-PARTICIPANT;PARTSTAT=ACCEPTED;RSVP=TRUE;CN="Bryan Ch
 an":http://phillytodo.com/profile/BryanChan
END:VEVENT
END:VCALENDAR
