BEGIN:VCALENDAR
PRODID:NingEventWidget-v1
VERSION:2.0
METHOD:PUBLISH
BEGIN:VEVENT
UID:4320450:Event:45112
DTSTAMP:20260425T130733Z
SUMMARY:A Climate-Ready City: 5th Annual Richard L. James Lecture
DESCRIPTION:Just before 200 nations gathered in Paris to hammer out a 
 climate change agreement, Philadelphia released its own report on ho
 w the city might adapt in the decades ahead.  Growing Stronger: Towar
 d a Climate-Ready Philadelphia notes that 49 daily temperature records
  have been set here since 2000, 18 since 2010, and the Delaware River 
 has risen about a foot in that last 100 years.  While Philadelphia hi
 storically suffered through 20 days of 90-degree temperature annually,
  thermometers now hit that number 40 times per year, a doubling.\nSara
 h Wu, Director for Planning in the Mayor’s Office of Sustainability,
  presents the city’s key findings, and will be joined by a panel of 
 leading Philadelphia scientists, activists, and policy experts working
  on a climate-ready Philadelphia.\nThe panel includes David Masur, exe
 cutive director of PennEnvironment and chair of Mayor Jim Kenney’s s
 ustainability transition team; Raluca Ellis, Ph. D., environmental sci
 entist for the Franklin Institute and director of the regional Climate
  & Urban Systems Partnership; Dr. Pouné Saberi, board member for Phys
 icians for Social Responsibility and in Paris during the climate talks
 ; and Saleem Chapman, the policy and advocacy manager for the Sustaina
 ble Business Network who works on environmental and social justice iss
 ues.\nAnd we’ll involve you in the conversation as well—this is yo
 ur chance to explore the future of our city as the climate changes.\n\
 nFor more information visit http://phillytodo.com/events/a-climate-rea
 dy-city-5th-annual-richard-l-james-lecture
DTSTART:20160205T003000Z
DTEND:20160205T020000Z
CATEGORIES:lecture
LOCATION:The Schuylkill Center for Environmental Education
WEBSITE:http://www.schuylkillcenter.org/blog/event/5th-annual-richard-
 l-james-lecture/
URL:http://www.schuylkillcenter.org/blog/event/5th-annual-richard-l-ja
 mes-lecture/
CONTACT:215-482-7300
ORGANIZER:The Schuylkill Center for Environmental Education
ATTACH;FMTTYPE="image/jpeg":http://storage.ning.com/topology/rest/1.0/
 file/get/3054993186?profile=original
ATTENDEE;ROLE=REQ-PARTICIPANT;PARTSTAT=ACCEPTED;RSVP=TRUE;CN="The Schu
 ylkill Center":http://phillytodo.com/profile/AnnaLehrMueser
END:VEVENT
END:VCALENDAR
