BEGIN:VCALENDAR
PRODID:NingEventWidget-v1
VERSION:2.0
METHOD:PUBLISH
BEGIN:VEVENT
UID:4320450:Event:49809
DTSTAMP:20260425T191830Z
SUMMARY:9th Annual Strawberry Festival at Historic Strawberry Mansion
DESCRIPTION:Historic Strawberry Mansion celebrates its spring harvest 
 during the 9th Annual Strawberry Festival, featuring tours of the Mans
 ion strawberry orchard, where visitors can pick their own berries, and
  free tours of Historic Strawberry Mansion. Parks on Tap brings beer, 
 food and activities from noon – 5 p.m. The Mansion beekeepers will b
 e on hand to give visitors open-hive beekeeping demonstrations and hon
 ey tastings. The fun continues throughout the afternoon with a plant s
 ale, free family-friendly crafts and games, and festival food. \n\nFo
 r more information visit http://phillytodo.com/events/9th-annual-straw
 berry-festival-at-historic-strawberry-mansion
DTSTART:20170610T160000Z
DTEND:20170610T180000Z
CATEGORIES:festival
LOCATION:Historic Strawberry Mansion
WEBSITE:http://www.historicstrawberrymansion.org/
URL:http://www.historicstrawberrymansion.org/
CONTACT:2152288364
ORGANIZER;CN="Bryan Chan":http://phillytodo.com/profile/BryanChan
ATTACH;FMTTYPE="image/jpeg":http://storage.ning.com/topology/rest/1.0/
 file/get/3055003801?profile=original
ATTENDEE;ROLE=REQ-PARTICIPANT;PARTSTAT=ACCEPTED;RSVP=TRUE;CN="Bryan Ch
 an":http://phillytodo.com/profile/BryanChan
END:VEVENT
END:VCALENDAR
