BEGIN:VCALENDAR
PRODID:NingEventWidget-v1
VERSION:2.0
METHOD:PUBLISH
BEGIN:VEVENT
UID:4320450:Event:1958
DTSTAMP:20260425T112834Z
SUMMARY:9th Annual MMA and Sports Extravaganza
DESCRIPTION:Thousands of spectators, exhibitors, athletes, personal tr
 ainers along with their families will converge at the 9th Annual MMA &
  Sports Extravaganza and Trainer Summit for three days of world-class 
 sports competitions, seminars and interviews. This event is one of the
  greatest sports and fitness experience across the USA. New additions 
 to this year's events are the Pro MMA with Lou Neglia’s ROC XXXII, T
 he Kurt Angle Ultimate Teen Challenge, The Extreme Grappling Open, our
  Personal Trainer Summit and 5K race for charity along with Superstar 
 Legends of Wrestling Showcase.\nFans will see up to 16 action packed s
 ports & fitness events including the YRG Fitness System personally pre
 sented by the three-time World Wrestling Heavyweight Champion, Diamond
  Dallas Page; Olympic-style weightlifting, North American strongman, a
 nd USA boxing with more than 1,200 competitors and Celebrities from al
 l over the world. The Combative Sports line-up includes: a wing chun k
 ung fu convention, karate, boxing, referee clinic and hands on seminar
 s with celebrity athletes. We have recently added the GNPRBFI and C.U.
 T.S. Urban Combat Conference.\nThe Sports & Fitness Marketplace offers
  the latest trends in Sports gear, fitness equipment, apparel, along w
 ith nutritional supplements. Fans can purchase everything from Zebra M
 ats and Cages to an Arm Wrestling Tables and vitamins. Top health and 
 fitness companies from around the world will be at our Expo with free 
 samples and gear for sale all weekend.\nThis year we have added a Frid
 ay night Alan Goldberg VIP Experience and Celebrity Poker Game and VIP
  party inside the Taj Mahal Arena. Each Celebrity will play for the Ch
 arity of their choice similar to the hit TV show, The Celebrity Appren
 tice where a portion of that tables winning will go to the charity of 
 their choice while also having a chance to win big dollars. Celebs we 
 are lining up are Mr. International Shonnie Carter, Frank Shamrock, Jo
 e Piscapo, Danny Devito, Dan the Beast Severn, Frankie Edgar, Dante Ri
 vera and many more.\nThe event will present Feats of Strength by USA P
 owerlifting, Steel Bending along with the US Arm Wrestling and North A
 merican Strong Man Contests. We are proud to announce Mr. America and 
 Muscle Beach Legend Bill Grant will be running The Bill Grant NPC Atla
 ntic City Classic Bodybuilding & Figure Classic.\nThe show hours are F
 riday night, October 22 for the Celebrity Poker Night and VIP Kickoff 
 party at 6pm to Midnight; Saturday, October 23 from 10 a.m. to 6 p.m. 
 with the Celebrity Meet and Greet Party starting at 6pm. The Star stud
 ded Pro MMA Fight Night starts at 8pm. Sunday morning, October 24 at 8
 am walkers and runners will converge for our 5K for Charity and then t
 he Extravaganza runs from 10 a.m. to 5 p.m.\nTickets are priced at $20
  per day for adults, with children 12 and under admitted for free. 2 d
 ay VIP passes are available. Visit www.MMAsportsExpo.com for a full li
 sting of events and to purchase advance tickets or to register as an a
 thlete.\nEDITORS: We personally invite you or your staff to attend as 
 our guest. For more information, please contact Grace Jefferson at Gra
 ce@MMAsportsExpo.com please ask for Grace at the registration desk for
  VIP Treatment. You can get press credentials by faxing a request and 
 name list of press attending to 413-691-6057 www.MMAsportsExpo.com\n\n
 For more information visit http://phillytodo.com/events/9th-annual-mma
 -and-sports
DTSTART:20101022T220000Z
DTEND:20101024T210000Z
CATEGORIES:sports, festival, and, pro, mma, with, up, to, 16, 10, 000,
  people
LOCATION:Trump Taj Mahal Main Arena
WEBSITE:
URL:
CONTACT:
ORGANIZER;CN="james jefferson":http://phillytodo.com/profile/jamesjeff
 erson
ATTACH;FMTTYPE="image/jpeg":http://storage.ning.com/topology/rest/1.0/
 file/get/3054950480?profile=original
ATTENDEE;ROLE=REQ-PARTICIPANT;PARTSTAT=ACCEPTED;RSVP=TRUE;CN="james je
 fferson":http://phillytodo.com/profile/jamesjefferson
END:VEVENT
END:VCALENDAR
