BEGIN:VCALENDAR
PRODID:NingEventWidget-v1
VERSION:2.0
METHOD:PUBLISH
BEGIN:VEVENT
UID:4320450:Event:37160
DTSTAMP:20260425T145431Z
SUMMARY:9th Annual East Passyunk Car Show and Street Festival
DESCRIPTION:Vroom vroom down to East Passyunk for the 9th Annual Car S
 how & Street Festival on Sunday, July 27, 2014, from 12-5pm. 140+ anti
 que, show, muscle and custom cars, trucks and motorcycles will be line
 d up between Broad and Dickinson Streets.  The street festival will f
 eature live music, circus performances, street vendors, rack sales, ki
 ds' activities and the Bang! Boom! CRAFT! Show.  Wine and dine among 
 the cars as award-winning restaurants serve street food and summertime
  drinks at festival prices.  Admission is FREE for attendees and $15 
 for cars.  For more info, visit www.visiteastpassyunk.com\n\nFor mor
 e information visit http://phillytodo.com/events/9th-annual-east-passy
 unk-car-show-and-street-festival
DTSTART:20140727T160000Z
DTEND:20140727T210000Z
CATEGORIES:car, show
LOCATION:East Passyunk
WEBSITE:http://visiteastpassyunk.com/events.htm
URL:http://visiteastpassyunk.com/events.htm
CONTACT:(215) 336-1455
ORGANIZER:East Passyunk Avenue Business Improvement District
ATTACH;FMTTYPE="image/jpeg":http://storage.ning.com/topology/rest/1.0/
 file/get/3054975825?profile=original
ATTENDEE;ROLE=REQ-PARTICIPANT;PARTSTAT=ACCEPTED;RSVP=TRUE;CN="Aversa P
 R & Events":http://phillytodo.com/profile/KoryAversa277
END:VEVENT
END:VCALENDAR
