BEGIN:VCALENDAR
PRODID:NingEventWidget-v1
VERSION:2.0
METHOD:PUBLISH
BEGIN:VEVENT
UID:4320450:Event:56233
DTSTAMP:20260425T130846Z
SUMMARY:97.5 THE FANATIC FAN FEST 2018
DESCRIPTION:Join us for 97.5 Fan Fest on Saturday, August 25!\nMust be
  18 to enter, 21 to drink!\nClick \"Get Tickets\" to get GA/VIP Hospit
 ality Pass tickets!\nEvent starts at 1pm. Free parking!\nSee you there
 !97.5 THE FANATIC FAN FEST 2018\n\nFor more information visit http://p
 hillytodo.com/events/97-5-the-fanatic-fan-fest-2018
DTSTART:20180825T170000Z
DTEND:20180825T220000Z
CATEGORIES:sports, event
LOCATION:Xfinity Live! Philadelphia
WEBSITE:https://www.ticketfly.com/purchase/event/1697847
URL:https://www.ticketfly.com/purchase/event/1697847
CONTACT:
ORGANIZER;CN="XFINITY Live! Philadelphia":http://phillytodo.com/profil
 e/XFINITYLivePhiladelphia
ATTACH;FMTTYPE="image/jpeg":http://storage.ning.com/topology/rest/1.0/
 file/get/3055013951?profile=original
ATTENDEE;ROLE=REQ-PARTICIPANT;PARTSTAT=ACCEPTED;RSVP=TRUE;CN="XFINITY 
 Live! Philadelphia":http://phillytodo.com/profile/XFINITYLivePhiladelp
 hia
END:VEVENT
END:VCALENDAR
