BEGIN:VCALENDAR
PRODID:NingEventWidget-v1
VERSION:2.0
METHOD:PUBLISH
BEGIN:VEVENT
UID:4320450:Event:33184
DTSTAMP:20260425T143452Z
SUMMARY:92.5 XTU Friday Night Live!
DESCRIPTION:Join us this Friday and every Friday as Razz broadcasts li
 ve from PBR Bar and Grill from 9pm-12am for 92.5 XTU Friday Night Live
 !\nTune in for listener specials & giveaways.\nFree parking is availab
 le all day and night.\n\n\nFor more information visit http://phillytod
 o.com/events/92-5-xtu-friday-night-live-1
DTSTART:20130727T010000Z
DTEND:20130727T040000Z
CATEGORIES:country
LOCATION:XFINITY Live! Philadelphia
WEBSITE:http://xfinitylive.com/
URL:http://xfinitylive.com/
CONTACT:215-609-1678
ORGANIZER;CN="Stepfanie McCaffrey":http://phillytodo.com/profile/Stepf
 anieMcCaffrey
ATTACH;FMTTYPE="image/jpeg":http://storage.ning.com/topology/rest/1.0/
 file/get/3054966403?profile=original
ATTENDEE;ROLE=REQ-PARTICIPANT;PARTSTAT=ACCEPTED;RSVP=TRUE;CN="Stepfani
 e McCaffrey":http://phillytodo.com/profile/StepfanieMcCaffrey
END:VEVENT
END:VCALENDAR
