BEGIN:VCALENDAR
PRODID:NingEventWidget-v1
VERSION:2.0
METHOD:PUBLISH
BEGIN:VEVENT
UID:4320450:Event:34947
DTSTAMP:20260425T142812Z
SUMMARY:8th Annual Vampires + Vixens Halloween Party
DESCRIPTION:Now in its eighth year, Vampires + Vixens is Philadelphi
 a's most exclusive Halloween event.  This year, we are bringing you a
  6-hour blow-out costume extravaganza!  Be sure you are at Philly's m
 ost talked about party for the 8th year in a row....Calling all vampir
 es & vixens: It's time to turn it up this Halloween at Whisper Nightcl
 ub! Announcing the 8th Annual Vampires + Vixens Halloween Party.  Com
 plete with sexy dancers and one of Philly's best DJs - DJ Royale!  (D
 J Royale Whisper Video)  Brought to you by Philly2Night, UpcomingEven
 ts.com, and YoungProfessionalEvents.com.\n\nFor more information visit
  http://phillytodo.com/events/8th-annual-vampires-vixens-halloween-par
 ty
DTSTART:20131027T010000Z
DTEND:20131027T070000Z
CATEGORIES:halloween, party, costume
LOCATION:Whisper Nightclub
WEBSITE:http://www.upcomingevents.com/philadelphia/halloween-parties/p
 todo/
URL:http://www.upcomingevents.com/philadelphia/halloween-parties/ptodo
 /
CONTACT:
ORGANIZER;CN="UpcomingEvents.com":http://phillytodo.com/profile/Upcomi
 ngEventscom
ATTACH;FMTTYPE="image/jpeg":http://storage.ning.com/topology/rest/1.0/
 file/get/3054967298?profile=original
ATTENDEE;ROLE=REQ-PARTICIPANT;PARTSTAT=ACCEPTED;RSVP=TRUE;CN="Upcoming
 Events.com":http://phillytodo.com/profile/UpcomingEventscom
END:VEVENT
END:VCALENDAR
