BEGIN:VCALENDAR
PRODID:NingEventWidget-v1
VERSION:2.0
METHOD:PUBLISH
BEGIN:VEVENT
UID:4320450:Event:2056
DTSTAMP:20260425T160207Z
SUMMARY:8th Annual Philly's Largest After-Work Fall Singles Party & Mi
 xer
DESCRIPTION:Join The Manayunk Brewery, SinglesEvents.com, and 95.7 Ben
  FM Thursday, October 14th from 6:00-10:00pm for the 8th Annual Fall A
 fter-Work Singles Party & Mixer upstairs in the elegant River Club roo
 m. This is an indoor/outdoor (if it is chilly or raining, just head on
  inside for the DJ & huge bar/room). You will enjoy your first drink f
 ree, complimentary light food, fun ice-breakers (from Ben FM & Lock & 
 Key Events), giveaways, mix & mingle with singles and local groups & o
 rganizations, complimentary liquor samples, and GREAT drink specials i
 ncluding $3 draft beers, $4 mixed drinks, martinis and margaritas, as 
 well as $5 glasses of wine. Grab a friend or come alone. Either way, S
 EE YOU THERE!!\n\n\nhttp://fallsinglesparty-ptodo.eventbrite.com\n\nFo
 r more information visit http://phillytodo.com/events/8th-annual-phill
 ys-largest-1
DTSTART:20101014T220000Z
DTEND:20101015T020000Z
CATEGORIES:singles, party, drink, specials, mixer
LOCATION:The Manayunk Brewery
WEBSITE:http://fallsinglesparty-ptodo.eventbrite.com
URL:http://fallsinglesparty-ptodo.eventbrite.com
CONTACT:
ORGANIZER;CN="UpcomingEvents.com":http://phillytodo.com/profile/Upcomi
 ngEventscom
ATTACH;FMTTYPE="image/jpeg":http://storage.ning.com/topology/rest/1.0/
 file/get/3054950614?profile=original
ATTENDEE;ROLE=REQ-PARTICIPANT;PARTSTAT=ACCEPTED;RSVP=TRUE;CN="Upcoming
 Events.com":http://phillytodo.com/profile/UpcomingEventscom
END:VEVENT
END:VCALENDAR
