BEGIN:VCALENDAR
PRODID:NingEventWidget-v1
VERSION:2.0
METHOD:PUBLISH
BEGIN:VEVENT
UID:4320450:Event:38630
DTSTAMP:20260425T144316Z
SUMMARY:8th Annual Heaven & Hell Halloween Party
DESCRIPTION:Halloween 2014 in Philadelphia!  You and your friends ar
 e invited Friday, October 31st to the 8th Annual Heaven & Hell Hallo
 ween Party at Lucky Strike Lounge & Lanes. This huge two floor venue w
 ill set the stage to host 700+ people. The 3rd floor party room will r
 esemble Heaven with The Zombie Boogie featuring DJ Bizz & special gues
 t taking you back in time with your favorite body-groovin' dance hits!
  On the 2nd floor lounge, welcome to Hell featuring a special guest DJ
  spinning today's hottest music with EDM, Hip Hop, and Pop Hits. 2 par
 ties, 1 amazing venue - plus trips to Aruba & Vegas!Tickets Include ba
 r snacks, Costume Contest with over $500 in cash & prizes, multiple DJ
 s!  Multiple Ticket Options: General Admission (with First drink free
 ) and VIP 2-HOUR Open Bar\n \n\nFor more information visit http://phi
 llytodo.com/events/8th-annual-heaven-hell-halloween-party
DTSTART:20141101T000000Z
DTEND:20141101T060000Z
CATEGORIES:halloween, party
LOCATION:Lucky Strikes Lounge & Lanes
WEBSITE:http://www.upcomingevents.com/philadelphia/heaven-hell-hallowe
 en-party/ptodo/
URL:http://www.upcomingevents.com/philadelphia/heaven-hell-halloween-p
 arty/ptodo/
CONTACT:
ORGANIZER;CN="UpcomingEvents.com":http://phillytodo.com/profile/Upcomi
 ngEventscom
ATTACH;FMTTYPE="image/jpeg":http://storage.ning.com/topology/rest/1.0/
 file/get/3054980868?profile=original
ATTENDEE;ROLE=REQ-PARTICIPANT;PARTSTAT=ACCEPTED;RSVP=TRUE;CN="Upcoming
 Events.com":http://phillytodo.com/profile/UpcomingEventscom
END:VEVENT
END:VCALENDAR
