BEGIN:VCALENDAR
PRODID:NingEventWidget-v1
VERSION:2.0
METHOD:PUBLISH
BEGIN:VEVENT
UID:4320450:Event:46975
DTSTAMP:20260425T142752Z
SUMMARY:8th Annual Community Apple Festival
DESCRIPTION:Celebrate harvest season in the Woodford Mansion Orchard w
 ith cider making, apple tasting, pumpkin painting, blacksmith demonstr
 ations, children's games, an apple dessert contest (enter yours!) and 
 free tours of the orchard and historic Woodford Mansion. \nIf you wou
 ld like to volunteer to help with the Apple Festival from noon to 2 pm
 , please call Woodford Mansion at (215) 229-6115.\nhttp://woodfordman
 sion.org/orchard.php\n\nFor more information visit http://phillytodo.c
 om/events/8th-annual-community-apple-festival
DTSTART:20161015T160000Z
DTEND:20161015T180000Z
CATEGORIES:apple, festival
LOCATION:Woodford Mansion
WEBSITE:http://woodfordmansion.org/orchard.php
URL:http://woodfordmansion.org/orchard.php
CONTACT:(215) 229-6115
ORGANIZER:Woodford Mansion
ATTACH;FMTTYPE="image/jpeg":http://storage.ning.com/topology/rest/1.0/
 file/get/3054997312?profile=original
ATTENDEE;ROLE=REQ-PARTICIPANT;PARTSTAT=ACCEPTED;RSVP=TRUE;CN="Bryan Ch
 an":http://phillytodo.com/profile/BryanChan
END:VEVENT
END:VCALENDAR
