BEGIN:VCALENDAR
PRODID:NingEventWidget-v1
VERSION:2.0
METHOD:PUBLISH
BEGIN:VEVENT
UID:4320450:Event:49434
DTSTAMP:20260425T142731Z
SUMMARY:86th Annual Philadelphia Easter Promenade
DESCRIPTION:Hop on down to South Street for egg-citing family fun duri
 ng Philadelphia’s 86th Easter Promenade on Sunday, April 16, 2017 st
 arting at 12:30pm. Master of ceremonies Henri David returns to lead th
 e parade from Passyunk Avenue and South Street (between 4th and 5th st
 reets) down to Headhouse Square. Enjoy Easter treats, live music from 
 the Philadelphia Freedom Band, the Bunny Hop, Mr. and Mrs. Peter Cotto
 ntail and much more until 2pm. Bring your camera and stick around to m
 eet the Easter Bunny himself, and see who wins the best dressed contes
 ts! Children and adults can enter to be crowned Best Dressed, or best 
 Easter Bonnet. Families are invited to stay after the event for a fabu
 lous brunch on South Street. For info, visit www.southstreet.com, twee
 t @officialsouthst or call 215-413-3713.\n\nFor more information visit
  http://phillytodo.com/events/86th-annual-philadelphia-easter-promenad
 e
DTSTART:20170416T163000Z
DTEND:20170416T180000Z
CATEGORIES:easter, promenade
LOCATION:South Street
WEBSITE:https://www.facebook.com/events/635146180002482/
URL:https://www.facebook.com/events/635146180002482/
CONTACT:2154133713
ORGANIZER:South Street Headhouse District
ATTACH;FMTTYPE="image/jpeg":http://storage.ning.com/topology/rest/1.0/
 file/get/3055003187?profile=original
ATTENDEE;ROLE=REQ-PARTICIPANT;PARTSTAT=ACCEPTED;RSVP=TRUE;CN="Aversa P
 R & Events":http://phillytodo.com/profile/KoryAversa277
END:VEVENT
END:VCALENDAR
