BEGIN:VCALENDAR
PRODID:NingEventWidget-v1
VERSION:2.0
METHOD:PUBLISH
BEGIN:VEVENT
UID:4320450:Event:36072
DTSTAMP:20260425T160043Z
SUMMARY:83rd Easter Promenade
DESCRIPTION:Hop on down to South Street for some FREE, egg-citing fami
 ly fun during the 83rd annual Easter Promenade on Sunday, April 20th. 
 MC Henri David returns to lead the parade from Passyunk Avenue and Sou
 th Street down to Headhouse Square. Enjoy Easter treats, live music fr
 om the Philadelphia Freedom Band, the Bunny Hop, Mr. and Mrs. Peter Co
 ttontail and much more until 2pm. Bring your camera and stick around t
 o meet the Easter Bunny himself, and see who wins the fashion contest
 s! Children and adults can enter to be crowned Best Dressed, or Best E
 aster Bonnet – even your pet can win big if they are dressed up. Cel
 ebrity judges will announce the winners in 12 categories. Don't miss t
 his FREE family event, filled with fun and surprises! Families are inv
 ited to stay after the event for a fabulous brunch on South Street. Fo
 r more information, visit www.southstreet.com or call 215-413-3713.\n\
 nFor more information visit http://phillytodo.com/events/83rd-easter-p
 romenade
DTSTART:20140420T163000Z
DTEND:20140420T180000Z
CATEGORIES:parade
LOCATION:430 South Street to Headhouse Square
WEBSITE:http://www.southstreet.com
URL:http://www.southstreet.com
CONTACT:215-413-3714
ORGANIZER:outh Street Headhouse District
ATTACH;FMTTYPE="image/jpeg":http://storage.ning.com/topology/rest/1.0/
 file/get/3054974460?profile=original
ATTENDEE;ROLE=REQ-PARTICIPANT;PARTSTAT=ACCEPTED;RSVP=TRUE;CN="Aversa P
 R & Events":http://phillytodo.com/profile/KoryAversa277
END:VEVENT
END:VCALENDAR
