BEGIN:VCALENDAR
PRODID:NingEventWidget-v1
VERSION:2.0
METHOD:PUBLISH
BEGIN:VEVENT
UID:4320450:Event:34885
DTSTAMP:20260425T142654Z
SUMMARY:7th Annual Heaven + Hell Halloween Party
DESCRIPTION:There is no better place on Friday October 25th than The
  7th Heaven & Hell Party at Lucky Strike Lounge & Lanes - this year, w
 ith a amazing added twist!  2 Awesome Parties - 1 Amazing Venue.  Sa
 ints & Sinners Vs. The Zombie Boogie is brought to you by Philly2night
 , UpcomingEvents.com, and YoungProfessionalEvents.com.\n \nThis huge 
 two floor venue will be host to our event for 800+ people. On the 2nd 
 floor lounge, welcome to Saints & Sinners featuring DJ Bizz spinning E
 DM, Hip Hop & Pop Hits. Then in the 3rd floor party room, welcome to T
 he Zombie Boogie with DJ Dan Cronin from Hair 'O the Dog, taking you b
 ack in time with your favorite classic dance hits!\n \nFireball Whisk
 y Specials All Night!\n\nFor more information visit http://phillytodo.
 com/events/7th-annual-heaven-hell-halloween-party
DTSTART:20131026T010000Z
DTEND:20131026T060000Z
CATEGORIES:halloween, party, costume
LOCATION:Lucky Strike
WEBSITE:http://www.upcomingevents.com/philadelphia/halloween-parties/p
 todo/
URL:http://www.upcomingevents.com/philadelphia/halloween-parties/ptodo
 /
CONTACT:
ORGANIZER;CN="UpcomingEvents.com":http://phillytodo.com/profile/Upcomi
 ngEventscom
ATTACH;FMTTYPE="image/jpeg":http://storage.ning.com/topology/rest/1.0/
 file/get/3054970109?profile=original
ATTENDEE;ROLE=REQ-PARTICIPANT;PARTSTAT=ACCEPTED;RSVP=TRUE;CN="Upcoming
 Events.com":http://phillytodo.com/profile/UpcomingEventscom
END:VEVENT
END:VCALENDAR
