BEGIN:VCALENDAR
PRODID:NingEventWidget-v1
VERSION:2.0
METHOD:PUBLISH
BEGIN:VEVENT
UID:4320450:Event:169808
DTSTAMP:20260425T130438Z
SUMMARY:7th Annual Globy Awards
DESCRIPTION:Join Global Philadelphia at the 7th annual Globy Awards on
  December 13th where they will be honoring six Philadelphians who have
  made a significant global impact through their hard work.\nThe Globy 
 Awards is a distinguished occasion where outstanding accomplishments w
 ith international implications are recognized. Attendees are asked to 
 bring a non-perishable pantry item for Philabundance. For a complete l
 ist of non-perishable donation items or to purchase tickets, visit ht
 tp://globalphiladelphia.org/globys. ;\n\nFor more information visit h
 ttp://phillytodo.com/events/7th-annual-globy-awards
DTSTART:20211213T170000Z
DTEND:20211213T190000Z
CATEGORIES:award, ceremony
LOCATION:The Westin Philadelphia
WEBSITE:http://globalphiladelphia.org/globys
URL:http://globalphiladelphia.org/globys
CONTACT:
ORGANIZER;CN=CashmanAssoc:http://phillytodo.com/profile/CashmanAssoc
ATTACH;FMTTYPE="image/jpeg":https://storage.ning.com/topology/rest/1.0
 /file/get/9818436659?profile=original
ATTENDEE;ROLE=REQ-PARTICIPANT;PARTSTAT=ACCEPTED;RSVP=TRUE;CN=CashmanAs
 soc:http://phillytodo.com/profile/CashmanAssoc
END:VEVENT
END:VCALENDAR
