BEGIN:VCALENDAR
PRODID:NingEventWidget-v1
VERSION:2.0
METHOD:PUBLISH
BEGIN:VEVENT
UID:4320450:Event:37202
DTSTAMP:20260425T112434Z
SUMMARY:76ers Draft Viewing Party
DESCRIPTION:Celebrate summer with free sips, sports + fun! Plus, catch
  the 76ers Draft and see who they tap to turn things around #GoPhilly!
  Free admission, RSVP request for planning. Mix/mingle and enjoy: *
  Free snacks, summer cocktails + drafts * Catch the 76ers draft on th
 e 16 foot media wall (8pm)* Save on all Philadelphia-inspired sports a
 pparel Co-hosted by Tom Bowles from Frontstretch Race Page @nascarb
 owles Everything is taken care of - just bring yourself a guest or tw
 o! RSVP is requested so we can plan for food and drink. PhillyPhaithf
 ul is a private retail Showroom and sports viewing destination with a
  16 foot HD TV, authentic Veterans Stadium seats, a vintage pool table
 , kegerator + tons of Philly-inspired and made sports design (like Jus
 t Boo It, Schmidt Happens, Broad and Pattison, etc.)\n\nFor more infor
 mation visit http://phillytodo.com/events/76ers-draft-viewing-party
DTSTART:20140611T220000Z
DTEND:20140611T230000Z
CATEGORIES:sports, viewing, party, philly, phaithful, summer, mixer, f
 ree
LOCATION:Philly Phaithful
WEBSITE:https://www.facebook.com/events/288657857970584/
URL:https://www.facebook.com/events/288657857970584/
CONTACT:215-840-9216
ORGANIZER;CN="Aversa PR & Events":http://phillytodo.com/profile/KoryAv
 ersa277
ATTACH;FMTTYPE="image/jpeg":
ATTENDEE;ROLE=REQ-PARTICIPANT;PARTSTAT=ACCEPTED;RSVP=TRUE;CN="Aversa P
 R & Events":http://phillytodo.com/profile/KoryAversa277
END:VEVENT
END:VCALENDAR
