BEGIN:VCALENDAR
PRODID:NingEventWidget-v1
VERSION:2.0
METHOD:PUBLISH
BEGIN:VEVENT
UID:4320450:Event:56429
DTSTAMP:20260425T123417Z
SUMMARY:74 Seconds...To Judgement
DESCRIPTION:A jury of 6 has been deadlocked for over a week – strugg
 ling to decide what is ‘justifiable homicide’- in this powerful an
 d provocative new play by Philadelphia playwright Kash Goins.\n\nFor m
 ore information visit http://phillytodo.com/events/74-seconds-to-judge
 ment
DTSTART:20190118T000000Z
DTEND:20190304T000000Z
CATEGORIES:play
LOCATION:Arden Theatre Company
WEBSITE:https://ardentheatre.org/event/74-secondsto-judgment/2019-01-1
 6/
URL:https://ardentheatre.org/event/74-secondsto-judgment/2019-01-16/
CONTACT:2159221122
ORGANIZER;CN="Arden Theatre Company":http://phillytodo.com/profile/Ard
 enTheatreCompany
ATTACH;FMTTYPE="image/jpeg":http://storage.ning.com/topology/rest/1.0/
 file/get/3055017419?profile=original
ATTENDEE;ROLE=REQ-PARTICIPANT;PARTSTAT=ACCEPTED;RSVP=TRUE;CN="Arden Th
 eatre Company":http://phillytodo.com/profile/ArdenTheatreCompany
END:VEVENT
END:VCALENDAR
