BEGIN:VCALENDAR
PRODID:NingEventWidget-v1
VERSION:2.0
METHOD:PUBLISH
BEGIN:VEVENT
UID:4320450:Event:59307
DTSTAMP:20260425T142138Z
SUMMARY:7 Mile Girls: Opening Reception &amp; Artist Talk
DESCRIPTION:Rowan University Art Gallery presents 7 Mile Girls, an exh
 ibition exploring the connection between Black female style of Detroit
 ’s inner city, with designer fashion and self-empowerment. Featuring
  several new works by artist Jamea Richmond-Edwards alongside painting
 s loaned by the Rubell Family Collection, the exhibition will run Nove
 mber 7 – December 21, 2019, with an opening reception on Thursday, N
 ovember 7 from 5 – 7:00 PM. Artist talk begins at 5 PM, with a recep
 tion immediately following. \n\nFor more information visit http://phi
 llytodo.com/events/7-mile-girls-opening-reception-amp-artist-talk
DTSTART:20191107T220000Z
DTEND:20191108T000000Z
CATEGORIES:art, opening, reception
LOCATION:Rowan University Art Gallery
WEBSITE:https://sites.rowan.edu/artgallery/exhibitions/jamea-richmond-
 edwards.html
URL:https://sites.rowan.edu/artgallery/exhibitions/jamea-richmond-edwa
 rds.html
CONTACT:856-256-4521
ORGANIZER:Rowan University Art Gallery
ATTACH;FMTTYPE="image/jpeg":https://storage.ning.com/topology/rest/1.0
 /file/get/3665286710?profile=original
ATTENDEE;ROLE=REQ-PARTICIPANT;PARTSTAT=ACCEPTED;RSVP=TRUE;CN="mary sal
 vante":http://phillytodo.com/profile/marysalvante
END:VEVENT
END:VCALENDAR
