BEGIN:VCALENDAR
PRODID:NingEventWidget-v1
VERSION:2.0
METHOD:PUBLISH
BEGIN:VEVENT
UID:4320450:Event:27203
DTSTAMP:20260425T155716Z
SUMMARY:7-05-12 Hands To The Sky Dance Party and Movie Screening
DESCRIPTION:https://www.facebook.com/events/406110562760961/\n\n“Han
 ds To The Sky” - an outdoor movie screening @ 9:30PM and dance till 
 2AM with the Philly Goodlife Party.Doors open @ 9PM $5 before 10PM-- $
 10 After 10PM Flirtlounge Philly 939 N. Deleware Ave Philadelphia,PAKe
 rvyn Mark (The Melting Pot Global NYC) DJ Venus 7 (Diva of the Deep- 
 Global Influences) Hosted by Dj Niko & Christain James My House Rocs
  is  adocumentary that focuses on House Music. It removes the dance e
 xperience from the confines of the box and plants it in the park, lays
  it on the beach and sets it in countless unexpected, exciting places.
 \n--This documentary zooms in on outdoor House Music events in various
  locations; locally and globally. The adroit camera crew captures the 
 passion and dedication of the DJ's and promoters and the undisputable 
 theme of love and unity that emanates from the speakers as well as the
  perspiration of the devoted tribe of dancers.>>Part One kicks off wit
 h east coast contemporaries, while Part Two will showcase the heat tha
 t House Music creates throughout the world, including but not limited 
 to Brazil, Spain, Africa and the UK.The House Music community has been
  described as unique, unified, peace-loving and of course benevolent. 
 It is our goal to share My House Rocs with the world! We are seeking f
 unding to cover various expenses: travel, promotional, advertising etc
 .Help us ignite a fire around the world and expand the freedom revolut
 ion of House Music.\n\n\n\n\n\nFor more information visit http://phill
 ytodo.com/events/7-05-12-hands-to-the-sky-dance-party-and-movie-screen
 ing
DTSTART:20120706T010000Z
DTEND:20120706T060000Z
CATEGORIES:house, music, party, and, movie, screening
LOCATION:Flirt Lounge Philly
WEBSITE:https://www.facebook.com/events/406110562760961/
URL:https://www.facebook.com/events/406110562760961/
CONTACT:
ORGANIZER;CN="Venus 7 and Global Influences":http://phillytodo.com/pro
 file/Venus7andGlobalInfluences
ATTACH;FMTTYPE="image/jpeg":http://storage.ning.com/topology/rest/1.0/
 file/get/3054960432?profile=original
ATTENDEE;ROLE=REQ-PARTICIPANT;PARTSTAT=ACCEPTED;RSVP=TRUE;CN="Venus 7 
 and Global Influences":http://phillytodo.com/profile/Venus7andGlobalIn
 fluences
END:VEVENT
END:VCALENDAR
