BEGIN:VCALENDAR
PRODID:NingEventWidget-v1
VERSION:2.0
METHOD:PUBLISH
BEGIN:VEVENT
UID:4320450:Event:2753
DTSTAMP:20260425T173456Z
SUMMARY:6th Annual Vampires + Vixens - Halloween in Philadelphia
DESCRIPTION:Now in its sixth year, Vampires + Vixens is Philadelphia's
  most exclusive\nHalloween event. This year, we are bringing you anoth
 er 6-hour blow-out\ncostume extravaganza! Be sure you are at Philly's 
 most talked about party\nfor the 6th year in a row.... 1,000 TICKETS W
 ILL BE SOLD\n\n\n\nThe party starts at 8pm and lasts until 2am. Supers
 tar DJ Ed Smooth &\nGuests will be playing amazing mash-ups, 80's, and
  top-40 club music, and\ndancers will be performing from 9-12. Two HUG
 E areas of action!\n\n\n\nAgain this year, dress in costume so you can
  have your shot at winning the\nCostume Contest. Staff will be walking
  around all night checking everyone\nout and seeing who the best of th
 e best are - dress to impress to win!\nThere will be several different
  categories with great cash & prizes,\nincluding a diamond pendant fro
 m D' Antonio & Klein Jewelers ($650 value!)\nand two VIP tickets to Ne
 w Years Eve (www.NYEphilly.com)!!\n\n\n\nAffordable General Admission,
  VIP, and Bottle Service tickets are available.\nSee the ticket link f
 or all the gory details!\n\nFor more information visit http://phillyto
 do.com/events/6th-annual-vampires-vixens
DTSTART:20101031T000000Z
DTEND:20101031T060000Z
CATEGORIES:halloween, party
LOCATION:Tavern on Broad
WEBSITE:http://vampiresvixens-ptodo.eventbrite.com
URL:http://vampiresvixens-ptodo.eventbrite.com
CONTACT:
ORGANIZER;CN="UpcomingEvents.com":http://phillytodo.com/profile/Upcomi
 ngEventscom
ATTACH;FMTTYPE="image/jpeg":http://storage.ning.com/topology/rest/1.0/
 file/get/3054950794?profile=original
ATTENDEE;ROLE=REQ-PARTICIPANT;PARTSTAT=ACCEPTED;RSVP=TRUE;CN="Upcoming
 Events.com":http://phillytodo.com/profile/UpcomingEventscom
END:VEVENT
END:VCALENDAR
