BEGIN:VCALENDAR
PRODID:NingEventWidget-v1
VERSION:2.0
METHOD:PUBLISH
BEGIN:VEVENT
UID:4320450:Event:34959
DTSTAMP:20260425T172234Z
SUMMARY:6th Annual Ghosts + Goblins Halloween Party in Manayunk
DESCRIPTION:Announcing the 6th Annual Ghosts + Goblins Halloween Party
  in Manayunk!  This is absolutely the biggest and hottest halloween 
 event in Manayunk this year, make sure you are there!  Brought to yo
 u by Philly2Night, UpcomingEvents.com, and YoungProfessionalEvents.com
 .Saturday, October 26th at Mad River Manayunk - Come dressed in your 
 greatest ghosts & goblins get up & compete for cash and prizes. Get th
 ere early for the open bar (for our VIP ticket holders only) + enjoy
  great drink specials while the DJ spins dance music for a howling goo
 d time!!  MULTIPLE BARS and bartenders - you know what that means..
 . no long lines for drinks!  Multiple DJs - DJ Stevie B in the Lodge,
  DJ Muve in the Main Room.  And yes, the Penn St-Ohio St game will be
  on the TVs! :)\n\nFor more information visit http://phillytodo.com/ev
 ents/6th-annual-ghosts-goblins-halloween-party-in-manayunk
DTSTART:20131027T000000Z
DTEND:20131027T060000Z
CATEGORIES:halloween, party, costume, nightlife
LOCATION:Mad River Manayunk
WEBSITE:http://www.upcomingevents.com/philadelphia/halloween-parties/p
 todo/
URL:http://www.upcomingevents.com/philadelphia/halloween-parties/ptodo
 /
CONTACT:
ORGANIZER;CN="UpcomingEvents.com":http://phillytodo.com/profile/Upcomi
 ngEventscom
ATTACH;FMTTYPE="image/jpeg":http://storage.ning.com/topology/rest/1.0/
 file/get/3054967679?profile=original
ATTENDEE;ROLE=REQ-PARTICIPANT;PARTSTAT=ACCEPTED;RSVP=TRUE;CN="Upcoming
 Events.com":http://phillytodo.com/profile/UpcomingEventscom
END:VEVENT
END:VCALENDAR
