BEGIN:VCALENDAR
PRODID:NingEventWidget-v1
VERSION:2.0
METHOD:PUBLISH
BEGIN:VEVENT
UID:4320450:Event:35260
DTSTAMP:20260425T125019Z
SUMMARY:6th Annual Evening in Franklin Square
DESCRIPTION:6th Annual Evening in Franklin Square\nPresented by Parx C
 asino\nMay 15, 2014\n6th & Race Streets, Philadelphia\nhistoricphilade
 lphia.org or 215-629-5801 x207\n \nA magic night of fun and fundraisi
 ng is back in Philadelphia’s prettiest setting.\n \nOn Thursday, Ma
 y 15, 2014, Historic Philadelphia, Inc. hosts the sixth annual An Even
 ing in Franklin Square presented by Parx Casino. This delightful eveni
 ng takes place in beautiful Franklin Square, one of the original Willi
 am Penn squares, that has been transformed into an urban amusement oas
 is. An Evening in Franklin Square will benefit this regional treasure.
  The event will commence at 5:30 pm with cocktails and a silent auctio
 n, followed by dinner along with a live auction and dancing at 7:30 pm
 . One of the evening’s highlights is the Parx Square Derby, a carous
 el “race,” where guests buy a mount or place bets and race to the 
 finish!\n \nThe Chairs of the event are Randy Chapman, Eric Etkins, M
 arc Oppenheimer, and Carol Zacney.\n \nIndividual tickets for An Even
 ing in Franklin Square are priced at $200.  Sponsorship and table pac
 kages are available. For more information, contact donation@historicph
 iladelphia.org or (215) 629-5801 ext. 207.\n\nFor more information vis
 it http://phillytodo.com/events/6th-annual-evening-in-franklin-square
DTSTART:20140515T213000Z
DTEND:20140516T030000Z
CATEGORIES:fundraiser
LOCATION:Franklin Square
WEBSITE:http://historicphiladelphia.org
URL:http://historicphiladelphia.org
CONTACT:(215) 629-5801 ext. 207.
ORGANIZER;CN="Cari Feiler Bender":http://phillytodo.com/profile/CariFe
 ilerBender
ATTACH;FMTTYPE="image/jpeg":http://storage.ning.com/topology/rest/1.0/
 file/get/3054970703?profile=original
ATTENDEE;ROLE=REQ-PARTICIPANT;PARTSTAT=ACCEPTED;RSVP=TRUE;CN="Cari Fei
 ler Bender":http://phillytodo.com/profile/CariFeilerBender
END:VEVENT
END:VCALENDAR
