BEGIN:VCALENDAR
PRODID:NingEventWidget-v1
VERSION:2.0
METHOD:PUBLISH
BEGIN:VEVENT
UID:4320450:Event:46812
DTSTAMP:20260425T125014Z
SUMMARY:6th Annual Burger Brawl
DESCRIPTION:The date is set for the 6th Annual PHILADELPHIA BURGER BRA
 WL.The main event will be held on SUNDAY, JUNE 26TH 4:00pm-7:00pm at
  XFINITY Live!The Philadelphia Burger Brawl funds literacy programming
  through technology for Philadelphia Public Schools. Come taste the c
 reations from over 60 Philadelphia area restaurants!\nCast your vote f
 or who has the best burger and new to this year's event, WHO HAS THE B
 EST TACO...as we proudly introduce the Philadelphia Taco Brawl.We invi
 te you to join us for this special day of fun and competition as we se
 e who has what it takes to win this annual outdoor food challenge!GA t
 ickets include: Enjoy unlimited samples from the 60 best burgers and t
 acos in Philadelphia and vote for your favorite. Sample burgers from r
 estaurants like Village Whiskey, Fat Ham, Blue Duck Sandwich Co. Butch
 er & Singer and tacos from El Vez, Revolution Taco, Buena Onda and mor
 e!!! All GA tickets include 1 free alcoholic drink.VIP tickets include
 : Enjoy early access at 3:00pm, a 1st class open bar and taste unlimi
 ted samples of the 60 top restaurants. Mix and mingle with celebrity j
 udges like…..WMMR's Steve Morrison, former Philadelphia Phillie Garr
 y Maddox..Fox Good Day’s Mike Jerrick and more!General Admission (21
  and Under): Enjoy unlimited samples from the 60 best burgers and taco
  in Philadelphia and vote for your favorite. Sample burgers from resta
 urants like Village Whiskey, Fat Ham, Blue Duck Sandwich Co. Butcher &
  Singer and tacos from El Vez, Revolution Taco, Buena Onda and more!VI
 P doors open 3pm. GA doors open 4pm.EVENT IS RAIN OR SHINE!\n\nFor m
 ore information visit http://phillytodo.com/events/6th-annual-burger-b
 rawl-1
DTSTART:20160626T200000Z
DTEND:20160626T230000Z
CATEGORIES:food, festival
LOCATION:Xfinity Live
WEBSITE:https://www.ticketfly.com/purchase/event/1164109?utm_medium=bk
 s
URL:https://www.ticketfly.com/purchase/event/1164109?utm_medium=bks
CONTACT:
ORGANIZER;CN="UpcomingEvents.com":http://phillytodo.com/profile/Upcomi
 ngEventscom
ATTACH;FMTTYPE="image/jpeg":http://storage.ning.com/topology/rest/1.0/
 file/get/3054995902?profile=original
ATTENDEE;ROLE=REQ-PARTICIPANT;PARTSTAT=ACCEPTED;RSVP=TRUE;CN="Upcoming
 Events.com":http://phillytodo.com/profile/UpcomingEventscom
END:VEVENT
END:VCALENDAR
