BEGIN:VCALENDAR
PRODID:NingEventWidget-v1
VERSION:2.0
METHOD:PUBLISH
BEGIN:VEVENT
UID:4320450:Event:40725
DTSTAMP:20260425T204844Z
SUMMARY:5th Annual FNA Chili Cookoff
DESCRIPTION:The Fishtown Neighbors Association is pleased to announc
 e the 5th Annual Chili Cook­Off, to be heldSunday, March 29, 2015, 
 from 1 PM – 4 PM at the Skybox at 2424 Studios, 2424 York Street, 
 Philadelphia, PA 19125.\nPrizes will be awarded for Best Restaurant C
 hili, Best Resident Chili and a People’s Choice Award for Resta
 urant and Resident. Participating restaurants include, Loco Pez (201
 2 Champion), Lloyd (2014 Critic’s Choice, Whiskey Pig Chili), Sa
 ncho Pistola’s, Good Spoon Soupery, Fette Sau, Cedar Point Bar &
  Kitchen (2014 People’s Choice), Belgrade Deli, Dottie’s Dinett
 e and more. Fifteen residents have also submitted chili for judging.\
 nJudges include PA State Representative Brian Sims, Daniela D’Ambr
 osio, co­owner of The Pickled Heron and recent contestant on Beat Bo
 bby Flay, and resident Teresa Decker, who is not returning to defend
  her 3 year resident crown, but instead offering expertise as a judge.
 \nBeer generously provided by Philadelphia Brewing Company (Kenzinge
 r and Pennsylvania Pale Ale), St Benjamin’s Brewing (India Cream 
 Ale and Little Peat Stout) and Port Richmond’s Do Good Brewing(Unit
 ed Ale and the recently released Milk Street Stout). Metropolitan Ba
 kery will again donate bread to sop up the chili and beer.\nAdvanced 
 entry of $15 includes two beers and unlimited chili. A $10 ‘chil
 i­only’ admission will be available at the door. Advance ticket pu
 rchases strongly encouraged online at https://www.fishtown.org/committ
 ees/chili-cookoff, with limited edition FNA pint glass for an addition
 al $3.\nAs a continuation of it’s mission statement, FNA is proud to
  announce it will be donating a portion of proceeds from each fundrai
 sing event to a community enrichment organization. The 5th Annual Chi
 li Cook­off will again benefit a PSD school in 19125.\n\nFor more inf
 ormation visit http://phillytodo.com/events/5th-annual-fna-chili-cooko
 ff
DTSTART:20150329T170000Z
DTEND:20150329T200000Z
CATEGORIES:community, event
LOCATION:The Skybox at 2424 Studios
WEBSITE:http://www.skyboxevents.com/
URL:http://www.skyboxevents.com/
CONTACT:
ORGANIZER;CN="Fishtown Chili Cookoff":http://phillytodo.com/profile/Fi
 shtownChiliCookoff
ATTACH;FMTTYPE="image/jpeg":
ATTENDEE;ROLE=REQ-PARTICIPANT;PARTSTAT=ACCEPTED;RSVP=TRUE;CN="Fishtown
  Chili Cookoff":http://phillytodo.com/profile/FishtownChiliCookoff
END:VEVENT
END:VCALENDAR
