BEGIN:VCALENDAR
PRODID:NingEventWidget-v1
VERSION:2.0
METHOD:PUBLISH
BEGIN:VEVENT
UID:4320450:Event:56535
DTSTAMP:20260425T130728Z
SUMMARY:5th Annual Cricket Cringle Holiday Market
DESCRIPTION:Ardmore Initiative will kick-off the holidays with the ret
 urn of the 5th Annual Cricket Cringle on Friday November 30 from 5:00p
 m to 9:00pm, and Saturday, December 1 from 10:00am to 4:00pm. The Main
  Line's festive open-air holiday market is a two-day pop-up festival t
 hat takes over Cricket Avenue at Lancaster, and features over 40 artis
 ts, makers, businesses and restaurants, plus complimentary tote bags, 
 live music, performances, cookie decorating, Santa's arrival, free hot
  cocoa, live greenery, decorations and tons of holiday cheer. This yea
 r, vendors will include a mix of Downtown businesses, local artists an
 d makers, new and long-time restaurants, and popular food trucks. Brin
 g Santa's shopping list for everything from jewelry, housewares, cloth
 ing, greens, wreaths, toys and gifts for all ages. Food trucks and foo
 d vendors will feature seasonal food and drink menus, including holida
 y cocktails and seasonal craft beer. Cricket Cringle is free and open 
 to the public. The event is rain or shine. Visit destinationardmore.co
 m for the entertainment schedule and final list of vendors.\n\n\nFor m
 ore information visit http://phillytodo.com/events/5th-annual-cricket-
 cringle-holiday-market
DTSTART:20181130T220000Z
DTEND:20181201T210000Z
CATEGORIES:seasonal
LOCATION:Cricket Ave in Ardmore
WEBSITE:http://destinationardmore.com/cricketcringle/
URL:http://destinationardmore.com/cricketcringle/
CONTACT:
ORGANIZER;CN="Aversa PR & Events":http://phillytodo.com/profile/KoryAv
 ersa277
ATTACH;FMTTYPE="image/jpeg":http://storage.ning.com/topology/rest/1.0/
 file/get/3055016029?profile=original
ATTENDEE;ROLE=REQ-PARTICIPANT;PARTSTAT=ACCEPTED;RSVP=TRUE;CN="Aversa P
 R & Events":http://phillytodo.com/profile/KoryAversa277
END:VEVENT
END:VCALENDAR
