BEGIN:VCALENDAR
PRODID:NingEventWidget-v1
VERSION:2.0
METHOD:PUBLISH
BEGIN:VEVENT
UID:4320450:Event:36318
DTSTAMP:20260425T155044Z
SUMMARY:5K Walk+Run Against Hunger
DESCRIPTION:Join us  for the annual 5K Walk+Run Against Hunger, a fun
 draiser for over 100 food pantries, soup kitchens and hunger-relief ag
 encies in the Philadelphia region and South Jersey.\n5K Run, chip-time
 d. Starts and ends at the Philadelphia Museum of Art and runs along Ma
 rtin Luther King Jr. Drive. USATF-certified course. Prizes in each age
  category provided by Philadelphia Runner.\nPlus, enjoy live entertain
 ment, free food and fun activities for all ages, including appearances
  by the Philadelphia Eagles and Swoop!\n\nFor more information visit h
 ttp://phillytodo.com/events/5k-walk-run-against-hunger
DTSTART:20140412T120000Z
DTEND:20140412T150000Z
CATEGORIES:5k, "walk+run", fundraiser
LOCATION:Philadelphia Museum of Art (Martin Luther King Jr. Drive)
WEBSITE:http://www.hungerwalk.org
URL:http://www.hungerwalk.org
CONTACT:2154300555
ORGANIZER;CN="Ronna Bolante":http://phillytodo.com/profile/RonnaBolant
 e
ATTACH;FMTTYPE="image/jpeg":http://storage.ning.com/topology/rest/1.0/
 file/get/3054974087?profile=original
ATTENDEE;ROLE=REQ-PARTICIPANT;PARTSTAT=ACCEPTED;RSVP=TRUE;CN="Ronna Bo
 lante":http://phillytodo.com/profile/RonnaBolante
END:VEVENT
END:VCALENDAR
