BEGIN:VCALENDAR
PRODID:NingEventWidget-v1
VERSION:2.0
METHOD:PUBLISH
BEGIN:VEVENT
UID:4320450:Event:36648
DTSTAMP:20260425T174120Z
SUMMARY:53rd Global Gala: Colors of Brazil
DESCRIPTION:International House Philadelphia channels the rhythm of Ca
 rnaval during the 53rd Global Gala: Colors of Brazil, an annual black-
 tie event that spotlights a different country each year. On Saturday, 
 May 17th, guests will enjoy authentic Brazilian cuisine, festive music
  from Dende, vibrant decorations, and a silent auction with food, reta
 il and luxury prizes! A portion of the proceeds from the Gala will sup
 port a housing scholarship fund for a resident advisor from Brazil. Fo
 r more information, or to purchase Gala tickets, call (215) 387-5125, 
 visit ihousephilly.org/globalgala or visit the IHP box office.\n\nFor
  more information visit http://phillytodo.com/events/53rd-global-gala-
 colors-of-brazil
DTSTART:20140517T223000Z
DTEND:20140518T020000Z
CATEGORIES:gala
LOCATION:International House Philadelphia
WEBSITE:http://ihousephilly.org/globalgala
URL:http://ihousephilly.org/globalgala
CONTACT:215-387-2215
ORGANIZER:International House Philadelphia
ATTACH;FMTTYPE="image/jpeg":http://storage.ning.com/topology/rest/1.0/
 file/get/3054974214?profile=original
ATTENDEE;ROLE=REQ-PARTICIPANT;PARTSTAT=ACCEPTED;RSVP=TRUE;CN="Aversa P
 R & Events":http://phillytodo.com/profile/KoryAversa277
END:VEVENT
END:VCALENDAR
