BEGIN:VCALENDAR
PRODID:NingEventWidget-v1
VERSION:2.0
METHOD:PUBLISH
BEGIN:VEVENT
UID:4320450:Event:40595
DTSTAMP:20260425T112515Z
SUMMARY:50th Anniversary Picnic
DESCRIPTION:It’s the party of the year – a summer picnic celebrati
 ng our 50th anniversary with a barbecue presented by Weaver’s Way Co
 -op.  Enjoy an evening of crafts, interactive art, live music, an ani
 mal show, nature hikes, s’mores, and more.  Play games, make a seed
  bomb—a clay ball filled with seeds—and add your thoughts to our t
 ime capsule, to be opened in 2040..  Consider staying over for the G
 reat American Backyard Campout.  Cosponsored by Weaver’s Way Food C
 o-op.\nAs picnic tickets are limited, advance registration is recommen
 ded.\nGet your tickets online now.  Tickets are $15.\n\nFor more inf
 ormation visit http://phillytodo.com/events/50th-anniversary-picnic
DTSTART:20150627T210000Z
DTEND:20150628T003000Z
CATEGORIES:picnic
LOCATION:Schuylkill Center for Environmental Education
WEBSITE:http://www.schuylkillcenter.org/blog/event/50th-anniversary-pi
 cnic/
URL:http://www.schuylkillcenter.org/blog/event/50th-anniversary-picnic
 /
CONTACT:215-482-7300, x110
ORGANIZER;CN="The Schuylkill Center":http://phillytodo.com/profile/Ann
 aLehrMueser
ATTACH;FMTTYPE="image/jpeg":http://storage.ning.com/topology/rest/1.0/
 file/get/3054986515?profile=original
ATTENDEE;ROLE=REQ-PARTICIPANT;PARTSTAT=ACCEPTED;RSVP=TRUE;CN="The Schu
 ylkill Center":http://phillytodo.com/profile/AnnaLehrMueser
END:VEVENT
END:VCALENDAR
