BEGIN:VCALENDAR
PRODID:NingEventWidget-v1
VERSION:2.0
METHOD:PUBLISH
BEGIN:VEVENT
UID:4320450:Event:33262
DTSTAMP:20260425T144250Z
SUMMARY:$5 never tasted so good!
DESCRIPTION:SourceURL:file://localhost/Volumes/Shared%20Documents/Shan
 k's/Publicity/5%20never%20tasted%20so%20good.doc @font-face { font-fam
 ily: \"Times New Roman\"; }@font-face { font-family: \"Optima\"; }@fon
 t-face { font-family: \"ヒラギノ角ゴ Pro W3\"; }p.MsoNormal, li.
 MsoNormal, div.MsoNormal { margin: 0in 0in 0.0001pt; font-size: 12pt; 
 font-family: Optima; color: black; }table.MsoNormalTable { font-size: 
 10pt; font-family: \"Times New Roman\"; }div.Section1 { page: Section1
 ; }\nShank’s is excited to announce a delicious new take on Philadel
 phia's beloved sandwiches. For the month of July, Shank's goes petite!
  Whether you love the Chicken Cutlet Italiano, Chicken Parmesan, Chi
 cken Cutlet Hoagie or the Chicken Tropea, these specialty chicken sand
 wiches are only $5 and include a refreshing fountain drink. Order your
  favorite chicken sandwich served on a small, yet fresh and warm Sarc
 one roll. Enjoy the original taste of Shank's in perfect sized portion
 s for a small snack or a light meal.\n\nFor more information visit htt
 p://phillytodo.com/events/5-never-tasted-so-good
DTSTART:20130723T140000Z
DTEND:20130801T020000Z
CATEGORIES:food
LOCATION:Shank's Original at Pier 40
WEBSITE:http://www.shanksoriginal.com
URL:http://www.shanksoriginal.com
CONTACT:2152184000
ORGANIZER:Patrick Rizzuto
ATTACH;FMTTYPE="image/jpeg":
ATTENDEE;ROLE=REQ-PARTICIPANT;PARTSTAT=ACCEPTED;RSVP=TRUE;CN="Tina Bre
 slow":http://phillytodo.com/profile/TinaBreslow
END:VEVENT
END:VCALENDAR
