BEGIN:VCALENDAR
PRODID:NingEventWidget-v1
VERSION:2.0
METHOD:PUBLISH
BEGIN:VEVENT
UID:4320450:Event:1740
DTSTAMP:20260425T143146Z
SUMMARY:4th of July Indoor/Outdoor Summer Bash
DESCRIPTION:Ol’ Skool Entertainment\nPresents\nParty Sunday No Work 
 Monday\n\n4th of July Indoor/Outdoor Summer Bash\n\nAt The Beautiful\n
 Hamilton Manor\n30 Route 156\nHamilton, NJ 08620\n7pm – 1am\n\nFeatu
 ring\n\n3 Rooms of entertainment\n\nOutdoor Patio Party featuring DJ S
 hawn T. spinning classic R&B, Funk , Hip-Hop, Oldies, Bop & Cha-Cha wh
 ile you dance under the stars.\n\nMain Ballroom the Party Concert feat
 uring Philly’s #1 party band U.G.O. along with Delaware’s hottest 
 party band To The Max and DJ Bruce Parson spinning all the party class
 ics.\n\nBallroom 2 lower level features AJ the DJ spinning the hottest
  classic and current line dance music.\n\nFree Parking\nComplimentary 
 lite buffet and food for purchase from the outdoor grill, Cash bar & D
 rink specials.\n\nVendors\n\nDress Code: Dress is Upscale Summer Casua
 l.\nNO Sneakers, jeans, T Shirts, Timms, Athletic wear, or Baggie clot
 hing.\nWe reserve the right to deny entry if not properly dressed.\n\n
 This event will go on rain or shine.\n\nAdmission $30.00 in advance mo
 re at the door\n\nPurchase Tickets Online:\nhttp://4thofjulysummerbash
 .eventbrite.com/\n\nNo outside packages permitted\n\nFor More Info inc
 luding Hotel & Tour bus Info\nGoto: http://www.OlSkoolEntertainment.co
 m/\nJOIN OUR R-MAIL LIST\n\nFor tickets and more info contact:\nDJ Sha
 wn T: 267-977-4312\n\nTicket Raffle To 3 Upcoming Summer Concerts\n\nS
 ATURDAY, JULY 17 @ THE ROBIN HOOD DELLEAST\nSLAVE\nBAR KAYS\nDAZZ BAND
 \nOHIO PLAYERS\nCON FUNK SHUN\nGEORGE CLINTON AND PARLAMENT\n\nSATURDA
 Y, AUGUST 7 @ ROBIN HOOD DELLEAST\nTEENA MARIE\nKEITH SWEAT\n\nFRIDAY,
  JULY 23 @ TRUMP TAJ MAHAL CASINO\nMC LYTE\nHEAVY D\nDOUG E FRESH\nBEL
 L BIV DEVOE\nNAUGHTY by NATURE\n\n\n\n\nFor more information visit htt
 p://phillytodo.com/events/4th-of-july-indooroutdoor
DTSTART:20100704T230000Z
DTEND:20100705T050000Z
CATEGORIES:nightlife, party, live, entertainment, dj, line, dancing, s
 ocial, networking
LOCATION:The Hamilton Manor
WEBSITE:http://www.olskoolentertainment.com
URL:http://www.olskoolentertainment.com
CONTACT:267-977-4312
ORGANIZER;CN="Ol'Skool Entertainment":http://phillytodo.com/profile/Ol
 SkoolEntertainment
ATTACH;FMTTYPE="image/jpeg":http://storage.ning.com/topology/rest/1.0/
 file/get/2990822724?profile=original
ATTENDEE;ROLE=REQ-PARTICIPANT;PARTSTAT=ACCEPTED;RSVP=TRUE;CN="Ol'Skool
  Entertainment":http://phillytodo.com/profile/OlSkoolEntertainment
END:VEVENT
END:VCALENDAR
