BEGIN:VCALENDAR
PRODID:NingEventWidget-v1
VERSION:2.0
METHOD:PUBLISH
BEGIN:VEVENT
UID:4320450:Event:53314
DTSTAMP:20260425T125014Z
SUMMARY:4th Annual Turkey Day Tailgate
DESCRIPTION:Phan Cave and Philly PR Girl celebrate the 4th Annual Turk
 ey Tailgate in support of Big Brothers Big Sisters! We take care of e
 verything for your ultimate Eagles tailgating experience. Just show up
  & be ready to tailgate! Enjoy: - Phan Cave's 30’ tailgate trailer 
 with 70” HDTVs- open bar featuring seasonal cocktails & beer- Thanks
 giving-inspired bites & dishes- music & entertainment - tailgate game
 s such as life size JENGA, Connect Four- Insta SHACK Photo Booth& much
  more! Phan Cave and Philly PR Girl are requesting guests to bring ne
 w or gently-used books to donate to Big Brothers Big Sisters Independ
 ence Region.\n\nFor more information visit http://phillytodo.com/event
 s/4th-annual-turkey-day-tailgate
DTSTART:20171126T050000Z
DTEND:20171127T045900Z
CATEGORIES:fundraiser
LOCATION:Holiday Inn Philadelphia Stadium
WEBSITE:https://phan-cave.ticketleap.com/4th-annual-turkey-day-tailgat
 e/
URL:https://phan-cave.ticketleap.com/4th-annual-turkey-day-tailgate/
CONTACT:
ORGANIZER;CN=PhillyPRGirl:http://phillytodo.com/profile/PhillyPRGirl
ATTACH;FMTTYPE="image/jpeg":http://storage.ning.com/topology/rest/1.0/
 file/get/3055009683?profile=original
ATTENDEE;ROLE=REQ-PARTICIPANT;PARTSTAT=ACCEPTED;RSVP=TRUE;CN=PhillyPRG
 irl:http://phillytodo.com/profile/PhillyPRGirl
END:VEVENT
END:VCALENDAR
